BEGIN:VCALENDAR
VERSION:2.0
PRODID:-//Sunday Assembly Pittsburgh - ECPv6.15.20//NONSGML v1.0//EN
CALSCALE:GREGORIAN
METHOD:PUBLISH
X-WR-CALNAME:Sunday Assembly Pittsburgh
X-ORIGINAL-URL:https://sapgh.org
X-WR-CALDESC:Events for Sunday Assembly Pittsburgh
REFRESH-INTERVAL;VALUE=DURATION:PT1H
X-Robots-Tag:noindex
X-PUBLISHED-TTL:PT1H
BEGIN:VTIMEZONE
TZID:America/New_York
BEGIN:DAYLIGHT
TZOFFSETFROM:-0500
TZOFFSETTO:-0400
TZNAME:EDT
DTSTART:20230312T070000
END:DAYLIGHT
BEGIN:STANDARD
TZOFFSETFROM:-0400
TZOFFSETTO:-0500
TZNAME:EST
DTSTART:20231105T060000
END:STANDARD
BEGIN:DAYLIGHT
TZOFFSETFROM:-0500
TZOFFSETTO:-0400
TZNAME:EDT
DTSTART:20240310T070000
END:DAYLIGHT
BEGIN:STANDARD
TZOFFSETFROM:-0400
TZOFFSETTO:-0500
TZNAME:EST
DTSTART:20241103T060000
END:STANDARD
BEGIN:DAYLIGHT
TZOFFSETFROM:-0500
TZOFFSETTO:-0400
TZNAME:EDT
DTSTART:20250309T070000
END:DAYLIGHT
BEGIN:STANDARD
TZOFFSETFROM:-0400
TZOFFSETTO:-0500
TZNAME:EST
DTSTART:20251102T060000
END:STANDARD
BEGIN:DAYLIGHT
TZOFFSETFROM:-0500
TZOFFSETTO:-0400
TZNAME:EDT
DTSTART:20260308T070000
END:DAYLIGHT
BEGIN:STANDARD
TZOFFSETFROM:-0400
TZOFFSETTO:-0500
TZNAME:EST
DTSTART:20261101T060000
END:STANDARD
BEGIN:DAYLIGHT
TZOFFSETFROM:-0500
TZOFFSETTO:-0400
TZNAME:EDT
DTSTART:20270314T070000
END:DAYLIGHT
BEGIN:STANDARD
TZOFFSETFROM:-0400
TZOFFSETTO:-0500
TZNAME:EST
DTSTART:20271107T060000
END:STANDARD
END:VTIMEZONE
BEGIN:VEVENT
DTSTART;TZID=America/New_York:20260419T100000
DTEND;TZID=America/New_York:20260419T233000
DTSTAMP:20260422T142228
CREATED:20260211T232633Z
LAST-MODIFIED:20260211T232633Z
UID:7425-1776592800-1776641400@sapgh.org
SUMMARY:April Assembly: The F Word - Faith
DESCRIPTION:In June we will be talking about money\, what it means to us\, what it means in general\, what it communicates and how we relate to it. Join us!
URL:https://sapgh.org/event/april-assembly-the-f-word-faith/
LOCATION:Wilkins School Community Center\, 7604 Charleston Ave\, Pittsburgh\, PA\, 15218\, United States
END:VEVENT
BEGIN:VEVENT
DTSTART;TZID=America/New_York:20260329T150000
DTEND;TZID=America/New_York:20260329T163000
DTSTAMP:20260422T142228
CREATED:20260210T230420Z
LAST-MODIFIED:20260311T235435Z
UID:7415-1774796400-1774801800@sapgh.org
SUMMARY:Multimedia Meetup: George Orwell and 1984
DESCRIPTION:In June we will be talking about money\, what it means to us\, what it means in general\, what it communicates and how we relate to it. Join us!
URL:https://sapgh.org/event/multimedia-meetup-george-orwell-and-1984/
LOCATION:Commonplace Coffee\, 7514 Thomas Blvd\, Suite 100\, Pittsburgh\, PA\, 15208\, United States
END:VEVENT
BEGIN:VEVENT
DTSTART;TZID=America/New_York:20260315T100000
DTEND;TZID=America/New_York:20260315T233000
DTSTAMP:20260422T142228
CREATED:20260211T232218Z
LAST-MODIFIED:20260211T232218Z
UID:7422-1773568800-1773617400@sapgh.org
SUMMARY:March Assembly: Pi(e) in Your Face!
DESCRIPTION:In June we will be talking about money\, what it means to us\, what it means in general\, what it communicates and how we relate to it. Join us!
URL:https://sapgh.org/event/march-assembly-pie-in-your-face/
LOCATION:Wilkins School Community Center\, 7604 Charleston Ave\, Pittsburgh\, PA\, 15218\, United States
END:VEVENT
BEGIN:VEVENT
DTSTART;TZID=America/New_York:20260215T100000
DTEND;TZID=America/New_York:20260215T233000
DTSTAMP:20260422T142228
CREATED:20260211T231911Z
LAST-MODIFIED:20260211T231911Z
UID:7419-1771149600-1771198200@sapgh.org
SUMMARY:February Assembly: Love - An Open Mic
DESCRIPTION:In June we will be talking about money\, what it means to us\, what it means in general\, what it communicates and how we relate to it. Join us!
URL:https://sapgh.org/event/february-assembly-love-an-open-mic/
LOCATION:Wilkins School Community Center\, 7604 Charleston Ave\, Pittsburgh\, PA\, 15218\, United States
END:VEVENT
BEGIN:VEVENT
DTSTART;TZID=America/New_York:20260121T190000
DTEND;TZID=America/New_York:20260121T203000
DTSTAMP:20260422T142228
CREATED:20251203T233257Z
LAST-MODIFIED:20251203T233450Z
UID:7327-1769022000-1769027400@sapgh.org
SUMMARY:Crossover: PFC Book Club (Online) - Heretic: Jesus Christ and Other Sons of God by Catherine Nixey
DESCRIPTION:In June we will be talking about money\, what it means to us\, what it means in general\, what it communicates and how we relate to it. Join us!
URL:https://sapgh.org/event/book-discussion-online-heretic-jesus-christ-and-other-sons-of-god-by-catherine-nixey/
LOCATION:Online
END:VEVENT
BEGIN:VEVENT
DTSTART;TZID=America/New_York:20260118T100000
DTEND;TZID=America/New_York:20260118T113000
DTSTAMP:20260422T142228
CREATED:20251128T181703Z
LAST-MODIFIED:20251230T215133Z
UID:7332-1768730400-1768735800@sapgh.org
SUMMARY:January Assembly - Italy: Country\, Language\, and... Let's Make Cioccolata Calda!
DESCRIPTION:In June we will be talking about money\, what it means to us\, what it means in general\, what it communicates and how we relate to it. Join us!
URL:https://sapgh.org/event/january-assembly-italy-country-language-and-lets-make-cioccolata/
LOCATION:Wilkins School Community Center\, 7604 Charleston Ave\, Pittsburgh\, PA\, 15218\, United States
END:VEVENT
BEGIN:VEVENT
DTSTART;TZID=America/New_York:20260110T140000
DTEND;TZID=America/New_York:20260110T153000
DTSTAMP:20260422T142228
CREATED:20251213T202701Z
LAST-MODIFIED:20251213T202701Z
UID:7355-1768053600-1768059000@sapgh.org
SUMMARY:January Multimedia Meetup: The Undocumented Americans
DESCRIPTION:In June we will be talking about money\, what it means to us\, what it means in general\, what it communicates and how we relate to it. Join us!
URL:https://sapgh.org/event/january-multimedia-meetup-the-undocumented-americans/
LOCATION:Commonplace Coffee\, 7514 Thomas Blvd\, Suite 100\, Pittsburgh\, PA\, 15208\, United States
END:VEVENT
BEGIN:VEVENT
DTSTART;TZID=America/New_York:20251221T100000
DTEND;TZID=America/New_York:20251221T113000
DTSTAMP:20260422T142228
CREATED:20251016T200623Z
LAST-MODIFIED:20251216T150906Z
UID:7274-1766311200-1766316600@sapgh.org
SUMMARY:December Assembly: Kith & Kin
DESCRIPTION:In June we will be talking about money\, what it means to us\, what it means in general\, what it communicates and how we relate to it. Join us!
URL:https://sapgh.org/event/december-assembly-kith-kin/
LOCATION:Wilkins School Community Center\, 7604 Charleston Ave\, Pittsburgh\, PA\, 15218\, United States
END:VEVENT
BEGIN:VEVENT
DTSTART;TZID=America/New_York:20251116T100000
DTEND;TZID=America/New_York:20251116T113000
DTSTAMP:20260422T142228
CREATED:20251016T204611Z
LAST-MODIFIED:20251016T204611Z
UID:7280-1763287200-1763292600@sapgh.org
SUMMARY:November Assembly: Animals Open Mic!
DESCRIPTION:In June we will be talking about money\, what it means to us\, what it means in general\, what it communicates and how we relate to it. Join us!
URL:https://sapgh.org/event/november-assembly-animals-open-mic-2/
LOCATION:Wilkins School Community Center\, 7604 Charleston Ave\, Pittsburgh\, PA\, 15218\, United States
END:VEVENT
BEGIN:VEVENT
DTSTART;TZID=America/New_York:20251023T170000
DTEND;TZID=America/New_York:20251023T193000
DTSTAMP:20260422T142228
CREATED:20251012T221219Z
LAST-MODIFIED:20251012T221237Z
UID:7259-1761238800-1761247800@sapgh.org
SUMMARY:Non-SAPGH Event: Pittsburgh Comprehensive Plan Public Workshop
DESCRIPTION:In June we will be talking about money\, what it means to us\, what it means in general\, what it communicates and how we relate to it. Join us!
URL:https://sapgh.org/event/non-sapgh-event-comprehensive-plan-public-workshop/
LOCATION:PA
END:VEVENT
BEGIN:VEVENT
DTSTART;TZID=America/New_York:20251022T170000
DTEND;TZID=America/New_York:20251022T193000
DTSTAMP:20260422T142228
CREATED:20251012T221008Z
LAST-MODIFIED:20251012T221008Z
UID:7256-1761152400-1761161400@sapgh.org
SUMMARY:Non-SAPGH Event: Pittsburgh Comprehensive Plan Public Workshop
DESCRIPTION:In June we will be talking about money\, what it means to us\, what it means in general\, what it communicates and how we relate to it. Join us!
URL:https://sapgh.org/event/non-sapgh-event-pittsburgh-comprehensive-plan-public-workshop/
LOCATION:PA
END:VEVENT
BEGIN:VEVENT
DTSTART;TZID=America/New_York:20251019T100000
DTEND;TZID=America/New_York:20251019T113000
DTSTAMP:20260422T142228
CREATED:20250824T153338Z
LAST-MODIFIED:20250824T153338Z
UID:7166-1760868000-1760873400@sapgh.org
SUMMARY:October Assembly: Legacy
DESCRIPTION:In June we will be talking about money\, what it means to us\, what it means in general\, what it communicates and how we relate to it. Join us!
URL:https://sapgh.org/event/october-assembly-legacy/
LOCATION:Wilkins School Community Center\, 7604 Charleston Ave\, Pittsburgh\, PA\, 15218\, United States
END:VEVENT
BEGIN:VEVENT
DTSTART;TZID=America/New_York:20251004T140000
DTEND;TZID=America/New_York:20251004T153000
DTSTAMP:20260422T142228
CREATED:20250809T144742Z
LAST-MODIFIED:20250809T145319Z
UID:7036-1759586400-1759591800@sapgh.org
SUMMARY:Multimedia Meetup: Cultish by Amanda Montell
DESCRIPTION:In June we will be talking about money\, what it means to us\, what it means in general\, what it communicates and how we relate to it. Join us!
URL:https://sapgh.org/event/multimedia-meetup-cultish/
LOCATION:Commonplace Coffee\, 7514 Thomas Blvd\, Suite 100\, Pittsburgh\, PA\, 15208\, United States
END:VEVENT
BEGIN:VEVENT
DTSTART;TZID=America/New_York:20250921T100000
DTEND;TZID=America/New_York:20250921T113000
DTSTAMP:20260422T142228
CREATED:20250818T005541Z
LAST-MODIFIED:20250818T005541Z
UID:7156-1758448800-1758454200@sapgh.org
SUMMARY:September Assembly: Hometown
DESCRIPTION:In June we will be talking about money\, what it means to us\, what it means in general\, what it communicates and how we relate to it. Join us!
URL:https://sapgh.org/event/september-assembly-hometown/
LOCATION:Wilkins School Community Center\, 7604 Charleston Ave\, Pittsburgh\, PA\, 15218\, United States
CATEGORIES:Sunday Assembly
END:VEVENT
BEGIN:VEVENT
DTSTART;TZID=America/New_York:20250914T160000
DTEND;TZID=America/New_York:20250914T190000
DTSTAMP:20260422T142228
CREATED:20250824T152849Z
LAST-MODIFIED:20250824T152849Z
UID:7172-1757865600-1757876400@sapgh.org
SUMMARY:Sunday Assembly Pittsburgh Fall Picnic
DESCRIPTION:In June we will be talking about money\, what it means to us\, what it means in general\, what it communicates and how we relate to it. Join us!
URL:https://sapgh.org/event/sunday-assembly-pittsburgh-fall-picnic/
LOCATION:Bigelow Grove Shelter in Highland Park
END:VEVENT
BEGIN:VEVENT
DTSTART;TZID=America/New_York:20250817T100000
DTEND;TZID=America/New_York:20250817T113000
DTSTAMP:20260422T142228
CREATED:20250722T144012Z
LAST-MODIFIED:20250722T151637Z
UID:6354-1755424800-1755430200@sapgh.org
SUMMARY:Sunday Assembly PGH August: Our Outdoors
DESCRIPTION:In June we will be talking about money\, what it means to us\, what it means in general\, what it communicates and how we relate to it. Join us!
URL:https://sapgh.org/event/sunday-assembly-pgh-august-outdoors/
LOCATION:Wilkins School Community Center\, 7604 Charleston Ave\, Pittsburgh\, PA\, 15218\, United States
END:VEVENT
BEGIN:VEVENT
DTSTART;TZID=America/New_York:20250803T150000
DTEND;TZID=America/New_York:20250803T170000
DTSTAMP:20260422T142228
CREATED:20250719T174859Z
LAST-MODIFIED:20250719T174859Z
UID:6953-1754233200-1754240400@sapgh.org
SUMMARY:Multimedia Meetup: The Empire of AI by Karen Hao
DESCRIPTION:In June we will be talking about money\, what it means to us\, what it means in general\, what it communicates and how we relate to it. Join us!
URL:https://sapgh.org/event/multimedia-meetup-the-empire-of-ai-by-karen-hao/
LOCATION:Commonplace Coffee\, 7514 Thomas Blvd\, Suite 100\, Pittsburgh\, PA\, 15208\, United States
END:VEVENT
BEGIN:VEVENT
DTSTART;TZID=America/New_York:20250720T100000
DTEND;TZID=America/New_York:20250720T113000
DTSTAMP:20260422T142228
CREATED:20250422T172947Z
LAST-MODIFIED:20250425T014735Z
UID:6352-1753005600-1753011000@sapgh.org
SUMMARY:Sunday Assembly PGH July: Vietnam and.... Let's Make Spring Rolls
DESCRIPTION:In June we will be talking about money\, what it means to us\, what it means in general\, what it communicates and how we relate to it. Join us!
URL:https://sapgh.org/event/sunday-assembly-pgh-july-vietnam/
LOCATION:Wilkins School Community Center\, 7604 Charleston Ave\, Pittsburgh\, PA\, 15218\, United States
END:VEVENT
BEGIN:VEVENT
DTSTART;TZID=America/New_York:20250615T100000
DTEND;TZID=America/New_York:20250615T113000
DTSTAMP:20260422T142228
CREATED:20250422T172829Z
LAST-MODIFIED:20250422T172829Z
UID:6350-1749981600-1749987000@sapgh.org
SUMMARY:Sunday Assembly PGH June: Outdoors
DESCRIPTION:In June we will be talking about money\, what it means to us\, what it means in general\, what it communicates and how we relate to it. Join us!
URL:https://sapgh.org/event/sunday-assembly-pgh-june-outdoors/
LOCATION:Wilkins School Community Center\, 7604 Charleston Ave\, Pittsburgh\, PA\, 15218\, United States
END:VEVENT
BEGIN:VEVENT
DTSTART;TZID=America/New_York:20250601T030000
DTEND;TZID=America/New_York:20250601T163000
DTSTAMP:20260422T142228
CREATED:20250413T020442Z
LAST-MODIFIED:20250414T000535Z
UID:6725-1748746800-1748795400@sapgh.org
SUMMARY:Multimedia Meetup - Poverty\, by America
DESCRIPTION:In June we will be talking about money\, what it means to us\, what it means in general\, what it communicates and how we relate to it. Join us!
URL:https://sapgh.org/event/multimedia-meetup-poverty-by-america/
LOCATION:Commonplace Coffee\, 7514 Thomas Blvd\, Suite 100\, Pittsburgh\, PA\, 15208\, United States
END:VEVENT
BEGIN:VEVENT
DTSTART;TZID=America/New_York:20250518T100000
DTEND;TZID=America/New_York:20250518T113000
DTSTAMP:20260422T142228
CREATED:20250422T172237Z
LAST-MODIFIED:20250422T172237Z
UID:6348-1747562400-1747567800@sapgh.org
SUMMARY:Sunday Assembly PGH May: Games
DESCRIPTION:In June we will be talking about money\, what it means to us\, what it means in general\, what it communicates and how we relate to it. Join us!
URL:https://sapgh.org/event/sunday-assembly-pgh-may-games/
LOCATION:Wilkins School Community Center\, 7604 Charleston Ave\, Pittsburgh\, PA\, 15218\, United States
END:VEVENT
BEGIN:VEVENT
DTSTART;TZID=America/New_York:20250420T100000
DTEND;TZID=America/New_York:20250420T113000
DTSTAMP:20260422T142228
CREATED:20250413T021718Z
LAST-MODIFIED:20250413T021744Z
UID:6345-1745143200-1745148600@sapgh.org
SUMMARY:Sunday Assembly PGH April - Reality & Perception
DESCRIPTION:In June we will be talking about money\, what it means to us\, what it means in general\, what it communicates and how we relate to it. Join us!
URL:https://sapgh.org/event/sunday-assembly-pgh-april/
LOCATION:Wilkins School Community Center\, 7604 Charleston Ave\, Pittsburgh\, PA\, 15218\, United States
END:VEVENT
BEGIN:VEVENT
DTSTART;TZID=America/New_York:20250329T150000
DTEND;TZID=America/New_York:20250329T180000
DTSTAMP:20260422T142228
CREATED:20250316T200535Z
LAST-MODIFIED:20250316T200535Z
UID:6647-1743260400-1743271200@sapgh.org
SUMMARY:A Spring Equinox Celebration!
DESCRIPTION:In June we will be talking about money\, what it means to us\, what it means in general\, what it communicates and how we relate to it. Join us!
URL:https://sapgh.org/event/a-spring-equinox-celebration/
LOCATION:Swisshelm Park\, Swisshelm Park\, Pittsburgh\, PA\, 15218\, United States
END:VEVENT
BEGIN:VEVENT
DTSTART;TZID=America/New_York:20250316T100000
DTEND;TZID=America/New_York:20250316T233000
DTSTAMP:20260422T142228
CREATED:20250309T170817Z
LAST-MODIFIED:20250309T170817Z
UID:6341-1742119200-1742167800@sapgh.org
SUMMARY:Sunday Assembly PGH March: Food
DESCRIPTION:In June we will be talking about money\, what it means to us\, what it means in general\, what it communicates and how we relate to it. Join us!
URL:https://sapgh.org/event/sunday-assembly-pgh-march-food/
LOCATION:Wilkins School Community Center\, 7604 Charleston Ave\, Pittsburgh\, PA\, 15218\, United States
END:VEVENT
BEGIN:VEVENT
DTSTART;TZID=America/New_York:20250216T100000
DTEND;TZID=America/New_York:20250216T113000
DTSTAMP:20260422T142228
CREATED:20250104T170552Z
LAST-MODIFIED:20250104T171847Z
UID:6320-1739700000-1739705400@sapgh.org
SUMMARY:Sunday Assembly PGH February: Love\, Open Mic + Potluck
DESCRIPTION:In June we will be talking about money\, what it means to us\, what it means in general\, what it communicates and how we relate to it. Join us!
URL:https://sapgh.org/event/sunday-assembly-pgh-february-love-open-mic-potluck/
LOCATION:Wilkins School Community Center\, 7604 Charleston Ave\, Pittsburgh\, PA\, 15218\, United States
END:VEVENT
BEGIN:VEVENT
DTSTART;TZID=America/New_York:20250119T100000
DTEND;TZID=America/New_York:20250119T113000
DTSTAMP:20260422T142228
CREATED:20250104T170403Z
LAST-MODIFIED:20250117T191623Z
UID:6317-1737280800-1737286200@sapgh.org
SUMMARY:Sunday Assembly PGH Jan: Hopes & Fears (Zoom only!)
DESCRIPTION:In June we will be talking about money\, what it means to us\, what it means in general\, what it communicates and how we relate to it. Join us!
URL:https://sapgh.org/event/sunday-assembly-pgh-january-hopes-fears/
LOCATION:PA
END:VEVENT
BEGIN:VEVENT
DTSTART;TZID=America/New_York:20241221T200000
DTEND;TZID=America/New_York:20241221T220000
DTSTAMP:20260422T142228
CREATED:20241126T004548Z
LAST-MODIFIED:20241126T004600Z
UID:6172-1734811200-1734818400@sapgh.org
SUMMARY:Winter Solstice Celebration
DESCRIPTION:In June we will be talking about money\, what it means to us\, what it means in general\, what it communicates and how we relate to it. Join us!
URL:https://sapgh.org/event/6172/
LOCATION:Swisshelm Park\, Swisshelm Park\, Pittsburgh\, PA\, 15218\, United States
END:VEVENT
BEGIN:VEVENT
DTSTART;TZID=America/New_York:20241214T190000
DTEND;TZID=America/New_York:20241214T203000
DTSTAMP:20260422T142228
CREATED:20240119T175145Z
LAST-MODIFIED:20240119T180550Z
UID:4586-1734202800-1734208200@sapgh.org
SUMMARY:Saturday Assembly PGH December: Yule Rock!
DESCRIPTION:In June we will be talking about money\, what it means to us\, what it means in general\, what it communicates and how we relate to it. Join us!
URL:https://sapgh.org/event/saturday-assembly-pgh-december-yule-rock/
LOCATION:Wilkins School Community Center\, 7604 Charleston Ave\, Pittsburgh\, PA\, 15218\, United States
END:VEVENT
BEGIN:VEVENT
DTSTART;TZID=America/New_York:20241208T130000
DTEND;TZID=America/New_York:20241208T150000
DTSTAMP:20260422T142228
CREATED:20241031T034157Z
LAST-MODIFIED:20241031T034157Z
UID:6072-1733662800-1733670000@sapgh.org
SUMMARY:Caste: The Origins of Our Discontents
DESCRIPTION:In June we will be talking about money\, what it means to us\, what it means in general\, what it communicates and how we relate to it. Join us!
URL:https://sapgh.org/event/caste-the-origins-of-our-discontents/
LOCATION:Commonplace Coffee\, 7514 Thomas Blvd\, Suite 100\, Pittsburgh\, PA\, 15208\, United States
END:VEVENT
BEGIN:VEVENT
DTSTART;TZID=America/New_York:20241117T100000
DTEND;TZID=America/New_York:20241117T113000
DTSTAMP:20260422T142228
CREATED:20240119T174818Z
LAST-MODIFIED:20241031T035220Z
UID:4583-1731837600-1731843000@sapgh.org
SUMMARY:Sunday Assembly PGH November (Remix): Cozy Open Mic & Chili/Soup Cook-Off!
DESCRIPTION:In June we will be talking about money\, what it means to us\, what it means in general\, what it communicates and how we relate to it. Join us!
URL:https://sapgh.org/event/sunday-assembly-pgh-november-strangers/
LOCATION:Wilkins School Community Center\, 7604 Charleston Ave\, Pittsburgh\, PA\, 15218\, United States
END:VEVENT
END:VCALENDAR