BEGIN:VCALENDAR
VERSION:2.0
PRODID:-//Sunday Assembly Pittsburgh - ECPv6.15.20//NONSGML v1.0//EN
CALSCALE:GREGORIAN
METHOD:PUBLISH
X-WR-CALNAME:Sunday Assembly Pittsburgh
X-ORIGINAL-URL:https://sapgh.org
X-WR-CALDESC:Events for Sunday Assembly Pittsburgh
REFRESH-INTERVAL;VALUE=DURATION:PT1H
X-Robots-Tag:noindex
X-PUBLISHED-TTL:PT1H
BEGIN:VTIMEZONE
TZID:America/New_York
BEGIN:DAYLIGHT
TZOFFSETFROM:-0500
TZOFFSETTO:-0400
TZNAME:EDT
DTSTART:20200308T070000
END:DAYLIGHT
BEGIN:STANDARD
TZOFFSETFROM:-0400
TZOFFSETTO:-0500
TZNAME:EST
DTSTART:20201101T060000
END:STANDARD
BEGIN:DAYLIGHT
TZOFFSETFROM:-0500
TZOFFSETTO:-0400
TZNAME:EDT
DTSTART:20210314T070000
END:DAYLIGHT
BEGIN:STANDARD
TZOFFSETFROM:-0400
TZOFFSETTO:-0500
TZNAME:EST
DTSTART:20211107T060000
END:STANDARD
BEGIN:DAYLIGHT
TZOFFSETFROM:-0500
TZOFFSETTO:-0400
TZNAME:EDT
DTSTART:20220313T070000
END:DAYLIGHT
BEGIN:STANDARD
TZOFFSETFROM:-0400
TZOFFSETTO:-0500
TZNAME:EST
DTSTART:20221106T060000
END:STANDARD
BEGIN:DAYLIGHT
TZOFFSETFROM:-0500
TZOFFSETTO:-0400
TZNAME:EDT
DTSTART:20230312T070000
END:DAYLIGHT
BEGIN:STANDARD
TZOFFSETFROM:-0400
TZOFFSETTO:-0500
TZNAME:EST
DTSTART:20231105T060000
END:STANDARD
END:VTIMEZONE
BEGIN:VEVENT
DTSTART;TZID=America/New_York:20220226T160000
DTEND;TZID=America/New_York:20220226T173000
DTSTAMP:20260422T180559
CREATED:20220220T160218Z
LAST-MODIFIED:20220220T160218Z
UID:3065-1645891200-1645896600@sapgh.org
SUMMARY:Wondershop! (Trust)
DESCRIPTION:We are a secular community that celebrates life! Join us as we explore the topic of " Neurodivergence."  There will be virtual singing\, dancing\, and a deep dive into this month's topic! IMPORTANT ANNOUNCEMENT: For the first time in a LLLLOOOOONNNNGGGG time\, we will be meeting both IN-Person and on Zoom!  Please join us inContinue reading "Sunday Assembly!  A Secular Community Celebration"
URL:https://sapgh.org/event/wondershop-trust/
LOCATION:PA
ATTACH;FMTTYPE=image/png:https://sapgh.org/wp-content/uploads/2022/02/Wondershop-logo.png
END:VEVENT
BEGIN:VEVENT
DTSTART;TZID=America/New_York:20220220T100000
DTEND;TZID=America/New_York:20220220T113000
DTSTAMP:20260422T180559
CREATED:20220106T010835Z
LAST-MODIFIED:20220203T011928Z
UID:2827-1645351200-1645356600@sapgh.org
SUMMARY:Sunday Assembly!  A Secular Community Celebration
DESCRIPTION:We are a secular community that celebrates life! Join us as we explore the topic of " Neurodivergence."  There will be virtual singing\, dancing\, and a deep dive into this month's topic! IMPORTANT ANNOUNCEMENT: For the first time in a LLLLOOOOONNNNGGGG time\, we will be meeting both IN-Person and on Zoom!  Please join us inContinue reading "Sunday Assembly!  A Secular Community Celebration"
URL:https://sapgh.org/event/sunday-assembly-a-secular-community-celebration-2/
LOCATION:Register to receive Zoom link!
ATTACH;FMTTYPE=image/png:https://sapgh.org/wp-content/uploads/2022/01/Sunday-Assembly-February-20-2022-@10a.png
END:VEVENT
BEGIN:VEVENT
DTSTART;TZID=America/New_York:20220213T140000
DTEND;TZID=America/New_York:20220213T153000
DTSTAMP:20260422T180559
CREATED:20220203T010955Z
LAST-MODIFIED:20220203T011253Z
UID:2935-1644760800-1644766200@sapgh.org
SUMMARY:Multimedia Meetup!
DESCRIPTION:We are a secular community that celebrates life! Join us as we explore the topic of " Neurodivergence."  There will be virtual singing\, dancing\, and a deep dive into this month's topic! IMPORTANT ANNOUNCEMENT: For the first time in a LLLLOOOOONNNNGGGG time\, we will be meeting both IN-Person and on Zoom!  Please join us inContinue reading "Sunday Assembly!  A Secular Community Celebration"
URL:https://sapgh.org/event/multimedia-meetup-2/
LOCATION:Register to receive Zoom link!
ATTACH;FMTTYPE=image/png:https://sapgh.org/wp-content/uploads/2022/01/Multimedia-Meetup-Logo.png
END:VEVENT
BEGIN:VEVENT
DTSTART;TZID=America/New_York:20220205T190000
DTEND;TZID=America/New_York:20220205T210000
DTSTAMP:20260422T180559
CREATED:20220128T154514Z
LAST-MODIFIED:20220128T154522Z
UID:2901-1644087600-1644094800@sapgh.org
SUMMARY:SAPgh Virtual Open Mic Night
DESCRIPTION:We are a secular community that celebrates life! Join us as we explore the topic of " Neurodivergence."  There will be virtual singing\, dancing\, and a deep dive into this month's topic! IMPORTANT ANNOUNCEMENT: For the first time in a LLLLOOOOONNNNGGGG time\, we will be meeting both IN-Person and on Zoom!  Please join us inContinue reading "Sunday Assembly!  A Secular Community Celebration"
URL:https://sapgh.org/event/sapgh-virtual-open-mic-night/
LOCATION:Register to receive Zoom link!
ATTACH;FMTTYPE=image/png:https://sapgh.org/wp-content/uploads/2022/01/SAPgh-Open-Mic.png
END:VEVENT
BEGIN:VEVENT
DTSTART;TZID=America/New_York:20220130T100000
DTEND;TZID=America/New_York:20220130T110000
DTSTAMP:20260422T180559
CREATED:20220124T190251Z
LAST-MODIFIED:20220124T190548Z
UID:2891-1643536800-1643540400@sapgh.org
SUMMARY:Wondershop!  "Create Your Own Rituals"
DESCRIPTION:We are a secular community that celebrates life! Join us as we explore the topic of " Neurodivergence."  There will be virtual singing\, dancing\, and a deep dive into this month's topic! IMPORTANT ANNOUNCEMENT: For the first time in a LLLLOOOOONNNNGGGG time\, we will be meeting both IN-Person and on Zoom!  Please join us inContinue reading "Sunday Assembly!  A Secular Community Celebration"
URL:https://sapgh.org/event/wondershop-create-your-own-rituals/
LOCATION:Register to receive Zoom link!
ATTACH;FMTTYPE=image/png:https://sapgh.org/wp-content/uploads/2022/01/Wondershop.png
END:VEVENT
BEGIN:VEVENT
DTSTART;TZID=America/New_York:20220129T180000
DTEND;TZID=America/New_York:20220129T210000
DTSTAMP:20260422T180559
CREATED:20220102T022359Z
LAST-MODIFIED:20220124T190838Z
UID:2798-1643479200-1643490000@sapgh.org
SUMMARY:** RESCHEDULED ** Concert with Jimmy and the Beautiful Mistakes & Friends
DESCRIPTION:We are a secular community that celebrates life! Join us as we explore the topic of " Neurodivergence."  There will be virtual singing\, dancing\, and a deep dive into this month's topic! IMPORTANT ANNOUNCEMENT: For the first time in a LLLLOOOOONNNNGGGG time\, we will be meeting both IN-Person and on Zoom!  Please join us inContinue reading "Sunday Assembly!  A Secular Community Celebration"
URL:https://sapgh.org/event/rescheduled-concert-with-jimmy-and-the-beautiful-mistakes-friends/
LOCATION:Online
ATTACH;FMTTYPE=image/png:https://sapgh.org/wp-content/uploads/2022/01/A-Backyard-Concert-final.png
END:VEVENT
BEGIN:VEVENT
DTSTART;TZID=America/New_York:20220121T190000
DTEND;TZID=America/New_York:20220122T180000
DTSTAMP:20260422T180559
CREATED:20220110T161323Z
LAST-MODIFIED:20220110T161642Z
UID:2850-1642791600-1642874400@sapgh.org
SUMMARY:PARTNER EVENT:  24th Annual Pittsburgh Racial Justice Summit
DESCRIPTION:We are a secular community that celebrates life! Join us as we explore the topic of " Neurodivergence."  There will be virtual singing\, dancing\, and a deep dive into this month's topic! IMPORTANT ANNOUNCEMENT: For the first time in a LLLLOOOOONNNNGGGG time\, we will be meeting both IN-Person and on Zoom!  Please join us inContinue reading "Sunday Assembly!  A Secular Community Celebration"
URL:https://sapgh.org/event/partner-event-24th-annual-pittsburgh-racial-justice-summit/
LOCATION:Online
ATTACH;FMTTYPE=image/png:https://sapgh.org/wp-content/uploads/2022/01/Screen-Shot-2022-01-10-at-11.02.08-AM.png
ORGANIZER;CN="The Black and White Reunion":MAILTO:info@pittsburghracialjusticesummit.org
END:VEVENT
BEGIN:VEVENT
DTSTART;TZID=America/New_York:20220121T190000
DTEND;TZID=America/New_York:20220121T190000
DTSTAMP:20260422T180559
CREATED:20211208T171508Z
LAST-MODIFIED:20211208T172225Z
UID:2787-1642791600-1642791600@sapgh.org
SUMMARY:SAPgh After Hours Game Night
DESCRIPTION:We are a secular community that celebrates life! Join us as we explore the topic of " Neurodivergence."  There will be virtual singing\, dancing\, and a deep dive into this month's topic! IMPORTANT ANNOUNCEMENT: For the first time in a LLLLOOOOONNNNGGGG time\, we will be meeting both IN-Person and on Zoom!  Please join us inContinue reading "Sunday Assembly!  A Secular Community Celebration"
URL:https://sapgh.org/event/sapgh-after-hours-game-night/
LOCATION:RSVP Required to reveal location
ATTACH;FMTTYPE=image/png:https://sapgh.org/wp-content/uploads/2021/12/Game-Night-010122.png
END:VEVENT
BEGIN:VEVENT
DTSTART;TZID=America/New_York:20220116T100000
DTEND;TZID=America/New_York:20220116T113000
DTSTAMP:20260422T180559
CREATED:20220106T005756Z
LAST-MODIFIED:20220106T005901Z
UID:2822-1642327200-1642332600@sapgh.org
SUMMARY:Sunday Assembly!  A Secular Community Celebration
DESCRIPTION:We are a secular community that celebrates life! Join us as we explore the topic of " Neurodivergence."  There will be virtual singing\, dancing\, and a deep dive into this month's topic! IMPORTANT ANNOUNCEMENT: For the first time in a LLLLOOOOONNNNGGGG time\, we will be meeting both IN-Person and on Zoom!  Please join us inContinue reading "Sunday Assembly!  A Secular Community Celebration"
URL:https://sapgh.org/event/sunday-assembly-a-secular-community-celebration/
LOCATION:Online
ATTACH;FMTTYPE=image/jpeg:https://sapgh.org/wp-content/uploads/2022/01/271413953_4657551127654362_1518725944246866443_n.jpeg
END:VEVENT
BEGIN:VEVENT
DTSTART;TZID=America/New_York:20220109T140000
DTEND;TZID=America/New_York:20220109T150000
DTSTAMP:20260422T180559
CREATED:20220106T024317Z
LAST-MODIFIED:20220106T031651Z
UID:2838-1641736800-1641740400@sapgh.org
SUMMARY:Multimedia Meetup!
DESCRIPTION:We are a secular community that celebrates life! Join us as we explore the topic of " Neurodivergence."  There will be virtual singing\, dancing\, and a deep dive into this month's topic! IMPORTANT ANNOUNCEMENT: For the first time in a LLLLOOOOONNNNGGGG time\, we will be meeting both IN-Person and on Zoom!  Please join us inContinue reading "Sunday Assembly!  A Secular Community Celebration"
URL:https://sapgh.org/event/multimedia-meetup/
LOCATION:Online
ATTACH;FMTTYPE=image/png:https://sapgh.org/wp-content/uploads/2022/01/Multimedia-Meetup-Logo.png
END:VEVENT
BEGIN:VEVENT
DTSTART;TZID=America/New_York:20211221T163000
DTEND;TZID=America/New_York:20211221T200000
DTSTAMP:20260422T180559
CREATED:20211208T165236Z
LAST-MODIFIED:20211208T165246Z
UID:2779-1640104200-1640116800@sapgh.org
SUMMARY:Winter Solstice Celebration: Walk & Bonfire
DESCRIPTION:We are a secular community that celebrates life! Join us as we explore the topic of " Neurodivergence."  There will be virtual singing\, dancing\, and a deep dive into this month's topic! IMPORTANT ANNOUNCEMENT: For the first time in a LLLLOOOOONNNNGGGG time\, we will be meeting both IN-Person and on Zoom!  Please join us inContinue reading "Sunday Assembly!  A Secular Community Celebration"
URL:https://sapgh.org/event/winter-solstice-celebration-walk-bonfire/
LOCATION:RSVP Required to reveal location
ATTACH;FMTTYPE=image/png:https://sapgh.org/wp-content/uploads/2021/12/Winter-Solstice-Celebration.png
END:VEVENT
BEGIN:VEVENT
DTSTART;TZID=America/New_York:20211219T100000
DTEND;TZID=America/New_York:20211219T113000
DTSTAMP:20260422T180559
CREATED:20211130T144124Z
LAST-MODIFIED:20211207T210016Z
UID:2753-1639908000-1639913400@sapgh.org
SUMMARY:Yule Rock!  A Secular Holiday Extravaganza
DESCRIPTION:We are a secular community that celebrates life! Join us as we explore the topic of " Neurodivergence."  There will be virtual singing\, dancing\, and a deep dive into this month's topic! IMPORTANT ANNOUNCEMENT: For the first time in a LLLLOOOOONNNNGGGG time\, we will be meeting both IN-Person and on Zoom!  Please join us inContinue reading "Sunday Assembly!  A Secular Community Celebration"
URL:https://sapgh.org/event/yule-rock-a-secular-holiday-extravaganza/
LOCATION:Online
ATTACH;FMTTYPE=image/jpeg:https://sapgh.org/wp-content/uploads/2021/11/Yule-Rock.jpeg
END:VEVENT
BEGIN:VEVENT
DTSTART;TZID=America/New_York:20211125T170000
DTEND;TZID=America/New_York:20211125T170000
DTSTAMP:20260422T180559
CREATED:20211108T030648Z
LAST-MODIFIED:20211120T033540Z
UID:2683-1637859600-1637859600@sapgh.org
SUMMARY:Friendsgiving Celebration
DESCRIPTION:We are a secular community that celebrates life! Join us as we explore the topic of " Neurodivergence."  There will be virtual singing\, dancing\, and a deep dive into this month's topic! IMPORTANT ANNOUNCEMENT: For the first time in a LLLLOOOOONNNNGGGG time\, we will be meeting both IN-Person and on Zoom!  Please join us inContinue reading "Sunday Assembly!  A Secular Community Celebration"
URL:https://sapgh.org/event/friendsgiving-celebration/
LOCATION:PA
ATTACH;FMTTYPE=image/png:https://sapgh.org/wp-content/uploads/2021/11/Friendsgiving-Celebration.png
END:VEVENT
BEGIN:VEVENT
DTSTART;TZID=America/New_York:20211121T100000
DTEND;TZID=America/New_York:20211121T110000
DTSTAMP:20260422T180559
CREATED:20211010T152920Z
LAST-MODIFIED:20211010T152920Z
UID:2638-1637488800-1637492400@sapgh.org
SUMMARY:Assembly!  A Secular Celebration
DESCRIPTION:We are a secular community that celebrates life! Join us as we explore the topic of " Neurodivergence."  There will be virtual singing\, dancing\, and a deep dive into this month's topic! IMPORTANT ANNOUNCEMENT: For the first time in a LLLLOOOOONNNNGGGG time\, we will be meeting both IN-Person and on Zoom!  Please join us inContinue reading "Sunday Assembly!  A Secular Community Celebration"
URL:https://sapgh.org/event/assembly-a-secular-celebration/
LOCATION:Online
ATTACH;FMTTYPE=image/png:https://sapgh.org/wp-content/uploads/2021/10/ADULT-RELATIONSHIPS.png
END:VEVENT
BEGIN:VEVENT
DTSTART;TZID=America/New_York:20211024T100000
DTEND;TZID=America/New_York:20211024T113000
DTSTAMP:20260422T180559
CREATED:20211021T010752Z
LAST-MODIFIED:20211021T010752Z
UID:2665-1635069600-1635075000@sapgh.org
SUMMARY:Sunday Assembly! A Secular Celebration
DESCRIPTION:We are a secular community that celebrates life! Join us as we explore the topic of " Neurodivergence."  There will be virtual singing\, dancing\, and a deep dive into this month's topic! IMPORTANT ANNOUNCEMENT: For the first time in a LLLLOOOOONNNNGGGG time\, we will be meeting both IN-Person and on Zoom!  Please join us inContinue reading "Sunday Assembly!  A Secular Community Celebration"
URL:https://sapgh.org/event/sunday-assembly-a-secular-celebration/
LOCATION:Online
ATTACH;FMTTYPE=image/png:https://sapgh.org/wp-content/uploads/2021/10/Death-Dying-Take-2.png
END:VEVENT
BEGIN:VEVENT
DTSTART;TZID=America/New_York:20211023T160000
DTEND;TZID=America/New_York:20211023T210000
DTSTAMP:20260422T180559
CREATED:20211008T212149Z
LAST-MODIFIED:20211008T212304Z
UID:2618-1635004800-1635022800@sapgh.org
SUMMARY:A Backyard Concert with Jimmy and the Beautiful Mistakes & Friends
DESCRIPTION:We are a secular community that celebrates life! Join us as we explore the topic of " Neurodivergence."  There will be virtual singing\, dancing\, and a deep dive into this month's topic! IMPORTANT ANNOUNCEMENT: For the first time in a LLLLOOOOONNNNGGGG time\, we will be meeting both IN-Person and on Zoom!  Please join us inContinue reading "Sunday Assembly!  A Secular Community Celebration"
URL:https://sapgh.org/event/a-backyard-concert-with-jimmy-and-the-beautiful-mistakes-friends/
LOCATION:PA
ATTACH;FMTTYPE=image/png:https://sapgh.org/wp-content/uploads/2021/10/A-Backyard-Concert.png
END:VEVENT
BEGIN:VEVENT
DTSTART;TZID=America/New_York:20211017T180000
DTEND;TZID=America/New_York:20211017T193000
DTSTAMP:20260422T180559
CREATED:20211006T205258Z
LAST-MODIFIED:20211015T003356Z
UID:2609-1634493600-1634499000@sapgh.org
SUMMARY:October's Monthly Assembly!
DESCRIPTION:We are a secular community that celebrates life! Join us as we explore the topic of " Neurodivergence."  There will be virtual singing\, dancing\, and a deep dive into this month's topic! IMPORTANT ANNOUNCEMENT: For the first time in a LLLLOOOOONNNNGGGG time\, we will be meeting both IN-Person and on Zoom!  Please join us inContinue reading "Sunday Assembly!  A Secular Community Celebration"
URL:https://sapgh.org/event/octobers-monthly-assembly/
LOCATION:Community Forge\, 1256 Franklin Avenue\, Pittsburgh\, PA\, 15221\, United States
ATTACH;FMTTYPE=image/jpeg:https://sapgh.org/wp-content/uploads/2021/10/death-dying.jpeg
END:VEVENT
BEGIN:VEVENT
DTSTART;TZID=America/New_York:20211016T150000
DTEND;TZID=America/New_York:20211016T170000
DTSTAMP:20260422T180559
CREATED:20210923T190526Z
LAST-MODIFIED:20210923T190715Z
UID:2514-1634396400-1634403600@sapgh.org
SUMMARY:Multimedia Meetup:  Discussion of "The Death and Life of Marsha P. Johnson"
DESCRIPTION:We are a secular community that celebrates life! Join us as we explore the topic of " Neurodivergence."  There will be virtual singing\, dancing\, and a deep dive into this month's topic! IMPORTANT ANNOUNCEMENT: For the first time in a LLLLOOOOONNNNGGGG time\, we will be meeting both IN-Person and on Zoom!  Please join us inContinue reading "Sunday Assembly!  A Secular Community Celebration"
URL:https://sapgh.org/event/multimedia-meetup-discussion-of-the-death-and-life-of-marsha-p-johnson/
LOCATION:Commonplace Coffee\, 7514 Thomas Blvd\, Suite 100\, Pittsburgh\, PA\, 15208\, United States
ATTACH;FMTTYPE=image/png:https://sapgh.org/wp-content/uploads/2021/09/Discussion.png
END:VEVENT
BEGIN:VEVENT
DTSTART;TZID=America/New_York:20211009T120000
DTEND;TZID=America/New_York:20211009T160000
DTSTAMP:20260422T180559
CREATED:20211006T203643Z
LAST-MODIFIED:20211006T203643Z
UID:2602-1633780800-1633795200@sapgh.org
SUMMARY:Harvest Festival / Love Our Neighborhood Day
DESCRIPTION:We are a secular community that celebrates life! Join us as we explore the topic of " Neurodivergence."  There will be virtual singing\, dancing\, and a deep dive into this month's topic! IMPORTANT ANNOUNCEMENT: For the first time in a LLLLOOOOONNNNGGGG time\, we will be meeting both IN-Person and on Zoom!  Please join us inContinue reading "Sunday Assembly!  A Secular Community Celebration"
URL:https://sapgh.org/event/harvest-festival-love-our-neighborhood-day/
LOCATION:Peace and Friendship Farm\, 678 Somers Street\, Pittsburgh\, 15219
ATTACH;FMTTYPE=image/jpeg:https://sapgh.org/wp-content/uploads/2021/10/Harvest-Festival.jpeg
END:VEVENT
BEGIN:VEVENT
DTSTART;TZID=America/New_York:20211006T200000
DTEND;TZID=America/New_York:20211006T213000
DTSTAMP:20260422T180559
CREATED:20210923T184815Z
LAST-MODIFIED:20210923T184815Z
UID:2505-1633550400-1633555800@sapgh.org
SUMMARY:"Multimedia Meetup" Watch Party:  The Death and Life of Marsha P. Johnson
DESCRIPTION:We are a secular community that celebrates life! Join us as we explore the topic of " Neurodivergence."  There will be virtual singing\, dancing\, and a deep dive into this month's topic! IMPORTANT ANNOUNCEMENT: For the first time in a LLLLOOOOONNNNGGGG time\, we will be meeting both IN-Person and on Zoom!  Please join us inContinue reading "Sunday Assembly!  A Secular Community Celebration"
URL:https://sapgh.org/event/multimedia-meetup-watch-party-the-death-and-life-of-marsha-p-johnson/
LOCATION:Online
ATTACH;FMTTYPE=image/png:https://sapgh.org/wp-content/uploads/2021/09/Watch-Party.png
END:VEVENT
END:VCALENDAR