BEGIN:VCALENDAR
VERSION:2.0
PRODID:-//Sunday Assembly Pittsburgh - ECPv6.15.20//NONSGML v1.0//EN
CALSCALE:GREGORIAN
METHOD:PUBLISH
X-WR-CALNAME:Sunday Assembly Pittsburgh
X-ORIGINAL-URL:https://sapgh.org
X-WR-CALDESC:Events for Sunday Assembly Pittsburgh
REFRESH-INTERVAL;VALUE=DURATION:PT1H
X-Robots-Tag:noindex
X-PUBLISHED-TTL:PT1H
BEGIN:VTIMEZONE
TZID:America/New_York
BEGIN:DAYLIGHT
TZOFFSETFROM:-0500
TZOFFSETTO:-0400
TZNAME:EDT
DTSTART:20220313T070000
END:DAYLIGHT
BEGIN:STANDARD
TZOFFSETFROM:-0400
TZOFFSETTO:-0500
TZNAME:EST
DTSTART:20221106T060000
END:STANDARD
BEGIN:DAYLIGHT
TZOFFSETFROM:-0500
TZOFFSETTO:-0400
TZNAME:EDT
DTSTART:20230312T070000
END:DAYLIGHT
BEGIN:STANDARD
TZOFFSETFROM:-0400
TZOFFSETTO:-0500
TZNAME:EST
DTSTART:20231105T060000
END:STANDARD
BEGIN:DAYLIGHT
TZOFFSETFROM:-0500
TZOFFSETTO:-0400
TZNAME:EDT
DTSTART:20240310T070000
END:DAYLIGHT
BEGIN:STANDARD
TZOFFSETFROM:-0400
TZOFFSETTO:-0500
TZNAME:EST
DTSTART:20241103T060000
END:STANDARD
BEGIN:DAYLIGHT
TZOFFSETFROM:-0500
TZOFFSETTO:-0400
TZNAME:EDT
DTSTART:20250309T070000
END:DAYLIGHT
BEGIN:STANDARD
TZOFFSETFROM:-0400
TZOFFSETTO:-0500
TZNAME:EST
DTSTART:20251102T060000
END:STANDARD
END:VTIMEZONE
BEGIN:VEVENT
DTSTART;TZID=America/New_York:20241214T190000
DTEND;TZID=America/New_York:20241214T203000
DTSTAMP:20260422T193018
CREATED:20240119T175145Z
LAST-MODIFIED:20240119T180550Z
UID:4586-1734202800-1734208200@sapgh.org
SUMMARY:Saturday Assembly PGH December: Yule Rock!
DESCRIPTION:Celebrate the coming of spring with a casual hangout on the equinox on March 29 at 3pm! Weather permitting\, we'll be outside with a campfire. BYO drinks or snacks if you like\, but no contributions are necessary. If you have seeds to share for planting in the spring\, bring them along for a seed swap! EventContinue reading "A Spring Equinox Celebration!"
URL:https://sapgh.org/event/saturday-assembly-pgh-december-yule-rock/
LOCATION:Wilkins School Community Center\, 7604 Charleston Ave\, Pittsburgh\, PA\, 15218\, United States
END:VEVENT
BEGIN:VEVENT
DTSTART;TZID=America/New_York:20241208T130000
DTEND;TZID=America/New_York:20241208T150000
DTSTAMP:20260422T193018
CREATED:20241031T034157Z
LAST-MODIFIED:20241031T034157Z
UID:6072-1733662800-1733670000@sapgh.org
SUMMARY:Caste: The Origins of Our Discontents
DESCRIPTION:Celebrate the coming of spring with a casual hangout on the equinox on March 29 at 3pm! Weather permitting\, we'll be outside with a campfire. BYO drinks or snacks if you like\, but no contributions are necessary. If you have seeds to share for planting in the spring\, bring them along for a seed swap! EventContinue reading "A Spring Equinox Celebration!"
URL:https://sapgh.org/event/caste-the-origins-of-our-discontents/
LOCATION:Commonplace Coffee\, 7514 Thomas Blvd\, Suite 100\, Pittsburgh\, PA\, 15208\, United States
END:VEVENT
BEGIN:VEVENT
DTSTART;TZID=America/New_York:20241117T100000
DTEND;TZID=America/New_York:20241117T113000
DTSTAMP:20260422T193018
CREATED:20240119T174818Z
LAST-MODIFIED:20241031T035220Z
UID:4583-1731837600-1731843000@sapgh.org
SUMMARY:Sunday Assembly PGH November (Remix): Cozy Open Mic & Chili/Soup Cook-Off!
DESCRIPTION:Celebrate the coming of spring with a casual hangout on the equinox on March 29 at 3pm! Weather permitting\, we'll be outside with a campfire. BYO drinks or snacks if you like\, but no contributions are necessary. If you have seeds to share for planting in the spring\, bring them along for a seed swap! EventContinue reading "A Spring Equinox Celebration!"
URL:https://sapgh.org/event/sunday-assembly-pgh-november-strangers/
LOCATION:Wilkins School Community Center\, 7604 Charleston Ave\, Pittsburgh\, PA\, 15218\, United States
END:VEVENT
BEGIN:VEVENT
DTSTART;TZID=America/New_York:20241103T170000
DTEND;TZID=America/New_York:20241103T190000
DTSTAMP:20260422T193018
CREATED:20241019T224410Z
LAST-MODIFIED:20241019T224410Z
UID:6013-1730653200-1730660400@sapgh.org
SUMMARY:The Great Debate (Taylor's Version)
DESCRIPTION:Celebrate the coming of spring with a casual hangout on the equinox on March 29 at 3pm! Weather permitting\, we'll be outside with a campfire. BYO drinks or snacks if you like\, but no contributions are necessary. If you have seeds to share for planting in the spring\, bring them along for a seed swap! EventContinue reading "A Spring Equinox Celebration!"
URL:https://sapgh.org/event/the-great-debate-taylors-version/
LOCATION:Millvale\, Millvale\, Pittsburgh\, PA\, 15209
END:VEVENT
BEGIN:VEVENT
DTSTART;TZID=America/New_York:20241027T130000
DTEND;TZID=America/New_York:20241027T150000
DTSTAMP:20260422T193018
CREATED:20241002T214826Z
LAST-MODIFIED:20241002T214826Z
UID:5939-1730034000-1730041200@sapgh.org
SUMMARY:Stitching Group
DESCRIPTION:Celebrate the coming of spring with a casual hangout on the equinox on March 29 at 3pm! Weather permitting\, we'll be outside with a campfire. BYO drinks or snacks if you like\, but no contributions are necessary. If you have seeds to share for planting in the spring\, bring them along for a seed swap! EventContinue reading "A Spring Equinox Celebration!"
URL:https://sapgh.org/event/stitching-group/
LOCATION:Shaler Township\, Shaler Township\, Pittsburgh\, PA\, 15209\, United States
END:VEVENT
BEGIN:VEVENT
DTSTART;TZID=America/New_York:20241020T100000
DTEND;TZID=America/New_York:20241020T113000
DTSTAMP:20260422T193018
CREATED:20240119T173929Z
LAST-MODIFIED:20240119T174004Z
UID:4579-1729418400-1729423800@sapgh.org
SUMMARY:Sunday Assembly PGH October: Heartbreak
DESCRIPTION:Celebrate the coming of spring with a casual hangout on the equinox on March 29 at 3pm! Weather permitting\, we'll be outside with a campfire. BYO drinks or snacks if you like\, but no contributions are necessary. If you have seeds to share for planting in the spring\, bring them along for a seed swap! EventContinue reading "A Spring Equinox Celebration!"
URL:https://sapgh.org/event/sunday-assembly-pgh-october-heartbreak/
LOCATION:Wilkins School Community Center\, 7604 Charleston Ave\, Pittsburgh\, PA\, 15218\, United States
END:VEVENT
BEGIN:VEVENT
DTSTART;TZID=America/New_York:20240922T150000
DTEND;TZID=America/New_York:20240922T180000
DTSTAMP:20260422T193018
CREATED:20240824T163359Z
LAST-MODIFIED:20240824T171023Z
UID:5709-1727017200-1727028000@sapgh.org
SUMMARY:Fall Equinox Celebration!
DESCRIPTION:Celebrate the coming of spring with a casual hangout on the equinox on March 29 at 3pm! Weather permitting\, we'll be outside with a campfire. BYO drinks or snacks if you like\, but no contributions are necessary. If you have seeds to share for planting in the spring\, bring them along for a seed swap! EventContinue reading "A Spring Equinox Celebration!"
URL:https://sapgh.org/event/fall-equinox-celebration/
LOCATION:Swisshelm Park\, Swisshelm Park\, Pittsburgh\, PA\, 15218\, United States
END:VEVENT
BEGIN:VEVENT
DTSTART;TZID=America/New_York:20240915T100000
DTEND;TZID=America/New_York:20240915T113000
DTSTAMP:20260422T193018
CREATED:20240119T173624Z
LAST-MODIFIED:20240119T173624Z
UID:4576-1726394400-1726399800@sapgh.org
SUMMARY:Sunday Assembly PGH September: Myths and Mythology
DESCRIPTION:Celebrate the coming of spring with a casual hangout on the equinox on March 29 at 3pm! Weather permitting\, we'll be outside with a campfire. BYO drinks or snacks if you like\, but no contributions are necessary. If you have seeds to share for planting in the spring\, bring them along for a seed swap! EventContinue reading "A Spring Equinox Celebration!"
URL:https://sapgh.org/event/sunday-assembly-pgh-september-myths-and-mythology/
LOCATION:Wilkins School Community Center\, 7604 Charleston Ave\, Pittsburgh\, PA\, 15218\, United States
END:VEVENT
BEGIN:VEVENT
DTSTART;TZID=America/New_York:20240830T193000
DTEND;TZID=America/New_York:20240830T210000
DTSTAMP:20260422T193018
CREATED:20240801T034155Z
LAST-MODIFIED:20240801T034249Z
UID:5529-1725046200-1725051600@sapgh.org
SUMMARY:Book Discussion – Mental Immunity
DESCRIPTION:Celebrate the coming of spring with a casual hangout on the equinox on March 29 at 3pm! Weather permitting\, we'll be outside with a campfire. BYO drinks or snacks if you like\, but no contributions are necessary. If you have seeds to share for planting in the spring\, bring them along for a seed swap! EventContinue reading "A Spring Equinox Celebration!"
URL:https://sapgh.org/event/book-discussion-mental-immunity/
LOCATION:PA
END:VEVENT
BEGIN:VEVENT
DTSTART;TZID=America/New_York:20240818T113000
DTEND;TZID=America/New_York:20240818T130000
DTSTAMP:20260422T193018
CREATED:20240807T124533Z
LAST-MODIFIED:20240807T124533Z
UID:5574-1723980600-1723986000@sapgh.org
SUMMARY:Lunch at Bombay to Burgh after Sunday Assembly
DESCRIPTION:Celebrate the coming of spring with a casual hangout on the equinox on March 29 at 3pm! Weather permitting\, we'll be outside with a campfire. BYO drinks or snacks if you like\, but no contributions are necessary. If you have seeds to share for planting in the spring\, bring them along for a seed swap! EventContinue reading "A Spring Equinox Celebration!"
URL:https://sapgh.org/event/lunch-at-bombay-to-burgh-after-sunday-assembly/
LOCATION:PA
END:VEVENT
BEGIN:VEVENT
DTSTART;TZID=America/New_York:20240818T100000
DTEND;TZID=America/New_York:20240818T113000
DTSTAMP:20260422T193018
CREATED:20240802T014903Z
LAST-MODIFIED:20240802T015034Z
UID:5533-1723975200-1723980600@sapgh.org
SUMMARY:Sunday Assembly PGH August: Immunity
DESCRIPTION:Celebrate the coming of spring with a casual hangout on the equinox on March 29 at 3pm! Weather permitting\, we'll be outside with a campfire. BYO drinks or snacks if you like\, but no contributions are necessary. If you have seeds to share for planting in the spring\, bring them along for a seed swap! EventContinue reading "A Spring Equinox Celebration!"
URL:https://sapgh.org/event/sunday-assembly-pgh-august-immunity/
LOCATION:Wilkins School Community Center\, 7604 Charleston Ave\, Pittsburgh\, PA\, 15218\, United States
END:VEVENT
BEGIN:VEVENT
DTSTART;TZID=America/New_York:20240727T125000
DTEND;TZID=America/New_York:20240727T160000
DTSTAMP:20260422T193018
CREATED:20240708T221016Z
LAST-MODIFIED:20240708T221016Z
UID:5393-1722084600-1722096000@sapgh.org
SUMMARY:Tour Old Economy Village in Anbridge\, PA
DESCRIPTION:Celebrate the coming of spring with a casual hangout on the equinox on March 29 at 3pm! Weather permitting\, we'll be outside with a campfire. BYO drinks or snacks if you like\, but no contributions are necessary. If you have seeds to share for planting in the spring\, bring them along for a seed swap! EventContinue reading "A Spring Equinox Celebration!"
URL:https://sapgh.org/event/tour-old-economy-village-in-anbridge-pa/
LOCATION:Old Economy Village\, 270 Sixteenth Street\, Ambridge\, PA\, 15003
END:VEVENT
BEGIN:VEVENT
DTSTART;TZID=America/New_York:20240721T100000
DTEND;TZID=America/New_York:20240721T113000
DTSTAMP:20260422T193018
CREATED:20240119T170626Z
LAST-MODIFIED:20240119T170626Z
UID:4566-1721556000-1721561400@sapgh.org
SUMMARY:Sunday Assembly PGH July: Games! 
DESCRIPTION:Celebrate the coming of spring with a casual hangout on the equinox on March 29 at 3pm! Weather permitting\, we'll be outside with a campfire. BYO drinks or snacks if you like\, but no contributions are necessary. If you have seeds to share for planting in the spring\, bring them along for a seed swap! EventContinue reading "A Spring Equinox Celebration!"
URL:https://sapgh.org/event/sunday-assembly-pgh-july-games/
LOCATION:Wilkins School Community Center\, 7604 Charleston Ave\, Pittsburgh\, PA\, 15218\, United States
END:VEVENT
BEGIN:VEVENT
DTSTART;TZID=America/New_York:20240717T190000
DTEND;TZID=America/New_York:20240717T210000
DTSTAMP:20260422T193018
CREATED:20240710T174752Z
LAST-MODIFIED:20240710T174752Z
UID:5409-1721242800-1721250000@sapgh.org
SUMMARY:Party Game Night: Kaleidoscope
DESCRIPTION:Celebrate the coming of spring with a casual hangout on the equinox on March 29 at 3pm! Weather permitting\, we'll be outside with a campfire. BYO drinks or snacks if you like\, but no contributions are necessary. If you have seeds to share for planting in the spring\, bring them along for a seed swap! EventContinue reading "A Spring Equinox Celebration!"
URL:https://sapgh.org/event/party-game-night-kaleidoscope/
LOCATION:CMU 5th Ave Neighborhood Commons\, 4735 Fifth Ave\, Pittsburgh\, 15213\, United States
ORGANIZER;CN="Pittsburgh Freethought Community":MAILTO:info@pghfreethought.org
END:VEVENT
BEGIN:VEVENT
DTSTART;TZID=America/New_York:20240714T130000
DTEND;TZID=America/New_York:20240714T180000
DTSTAMP:20260422T193018
CREATED:20240323T203109Z
LAST-MODIFIED:20240323T203109Z
UID:4934-1720962000-1720980000@sapgh.org
SUMMARY:4th Annual Sol Social Picnic!
DESCRIPTION:Celebrate the coming of spring with a casual hangout on the equinox on March 29 at 3pm! Weather permitting\, we'll be outside with a campfire. BYO drinks or snacks if you like\, but no contributions are necessary. If you have seeds to share for planting in the spring\, bring them along for a seed swap! EventContinue reading "A Spring Equinox Celebration!"
URL:https://sapgh.org/event/4th-annual-sol-social-picnic/
LOCATION:Fall Run Park\, 187 Fall Run Rd\, Glenshaw\, PA\, 15116\, United States
END:VEVENT
BEGIN:VEVENT
DTSTART;TZID=America/New_York:20240616T100000
DTEND;TZID=America/New_York:20240616T113000
DTSTAMP:20260422T193018
CREATED:20240119T170309Z
LAST-MODIFIED:20240616T150802Z
UID:4563-1718532000-1718537400@sapgh.org
SUMMARY:Sunday Assembly PGH June: Water World: Oceans!
DESCRIPTION:Celebrate the coming of spring with a casual hangout on the equinox on March 29 at 3pm! Weather permitting\, we'll be outside with a campfire. BYO drinks or snacks if you like\, but no contributions are necessary. If you have seeds to share for planting in the spring\, bring them along for a seed swap! EventContinue reading "A Spring Equinox Celebration!"
URL:https://sapgh.org/event/sunday-assembly-pgh-june-water-world-oceans/
LOCATION:Wilkins School Community Center\, 7604 Charleston Ave\, Pittsburgh\, PA\, 15218\, United States
END:VEVENT
BEGIN:VEVENT
DTSTART;TZID=America/New_York:20240519T100000
DTEND;TZID=America/New_York:20240519T113000
DTSTAMP:20260422T193018
CREATED:20240119T165024Z
LAST-MODIFIED:20240119T165333Z
UID:4558-1716112800-1716118200@sapgh.org
SUMMARY:Sunday Assembly PGH May: Predictions (Back to the Future) 
DESCRIPTION:Celebrate the coming of spring with a casual hangout on the equinox on March 29 at 3pm! Weather permitting\, we'll be outside with a campfire. BYO drinks or snacks if you like\, but no contributions are necessary. If you have seeds to share for planting in the spring\, bring them along for a seed swap! EventContinue reading "A Spring Equinox Celebration!"
URL:https://sapgh.org/event/sunday-assembly-pgh-may-predictions-back-to-the-future/
LOCATION:Wilkins School Community Center\, 7604 Charleston Ave\, Pittsburgh\, PA\, 15218\, United States
END:VEVENT
BEGIN:VEVENT
DTSTART;TZID=America/New_York:20240505T130000
DTEND;TZID=America/New_York:20240505T170000
DTSTAMP:20260422T193018
CREATED:20240216T233720Z
LAST-MODIFIED:20240217T175322Z
UID:4748-1714914000-1714928400@sapgh.org
SUMMARY:Meadowcroft Rockshelter and Historic Village
DESCRIPTION:Celebrate the coming of spring with a casual hangout on the equinox on March 29 at 3pm! Weather permitting\, we'll be outside with a campfire. BYO drinks or snacks if you like\, but no contributions are necessary. If you have seeds to share for planting in the spring\, bring them along for a seed swap! EventContinue reading "A Spring Equinox Celebration!"
URL:https://sapgh.org/event/meadowcroft-rockshelter-and-historic-village/
LOCATION:Meadowcroft Rockshelter and Historic Village\, 2759\, 401 Meadowcroft Rd\, Avella\, PA\, 15312
END:VEVENT
BEGIN:VEVENT
DTSTART;TZID=America/New_York:20240427T083000
DTEND;TZID=America/New_York:20240427T100000
DTSTAMP:20260422T193018
CREATED:20240210T231646Z
LAST-MODIFIED:20240217T174120Z
UID:4712-1714206600-1714212000@sapgh.org
SUMMARY:Introduction to Birding (Frick Park)
DESCRIPTION:Celebrate the coming of spring with a casual hangout on the equinox on March 29 at 3pm! Weather permitting\, we'll be outside with a campfire. BYO drinks or snacks if you like\, but no contributions are necessary. If you have seeds to share for planting in the spring\, bring them along for a seed swap! EventContinue reading "A Spring Equinox Celebration!"
URL:https://sapgh.org/event/introduction-to-birding-frick-park/
LOCATION:Frick Park\, Beechwood Blvd\, Frick Park\, Pittsburgh\, PA\, United States
END:VEVENT
BEGIN:VEVENT
DTSTART;TZID=America/New_York:20240421T100000
DTEND;TZID=America/New_York:20240421T113000
DTSTAMP:20260422T193018
CREATED:20240119T162051Z
LAST-MODIFIED:20240421T165857Z
UID:4547-1713693600-1713699000@sapgh.org
SUMMARY:Sunday Assembly PGH April:  Birds!
DESCRIPTION:Celebrate the coming of spring with a casual hangout on the equinox on March 29 at 3pm! Weather permitting\, we'll be outside with a campfire. BYO drinks or snacks if you like\, but no contributions are necessary. If you have seeds to share for planting in the spring\, bring them along for a seed swap! EventContinue reading "A Spring Equinox Celebration!"
URL:https://sapgh.org/event/sunday-assembly-pgh-april-birds/
LOCATION:Wilkins School Community Center\, 7604 Charleston Ave\, Pittsburgh\, PA\, 15218\, United States
END:VEVENT
BEGIN:VEVENT
DTSTART;TZID=America/New_York:20240414T090000
DTEND;TZID=America/New_York:20240414T110000
DTSTAMP:20260422T193018
CREATED:20240323T204709Z
LAST-MODIFIED:20240323T204709Z
UID:4942-1713085200-1713092400@sapgh.org
SUMMARY:April Service Project: Pittsburgh Center for Creative Reuse
DESCRIPTION:Celebrate the coming of spring with a casual hangout on the equinox on March 29 at 3pm! Weather permitting\, we'll be outside with a campfire. BYO drinks or snacks if you like\, but no contributions are necessary. If you have seeds to share for planting in the spring\, bring them along for a seed swap! EventContinue reading "A Spring Equinox Celebration!"
URL:https://sapgh.org/event/april-service-project-pittsburgh-center-for-creative-reuse/
LOCATION:Pittsburgh Center for Creative Reuse\, 214 N Lexington St\, Pittsburgh\, PA\, 15208\, United States
ORGANIZER;CN="Pittsburgh Center For Creative Reuse":MAILTO:info@pccr.org
END:VEVENT
BEGIN:VEVENT
DTSTART;TZID=America/New_York:20240330T130000
DTEND;TZID=America/New_York:20240330T150000
DTSTAMP:20260422T193018
CREATED:20240217T172733Z
LAST-MODIFIED:20240218T005532Z
UID:4756-1711803600-1711810800@sapgh.org
SUMMARY:Book Discussion - Sapiens: A Brief History of Humankind
DESCRIPTION:Celebrate the coming of spring with a casual hangout on the equinox on March 29 at 3pm! Weather permitting\, we'll be outside with a campfire. BYO drinks or snacks if you like\, but no contributions are necessary. If you have seeds to share for planting in the spring\, bring them along for a seed swap! EventContinue reading "A Spring Equinox Celebration!"
URL:https://sapgh.org/event/book-discussion-sapiens-a-brief-history-of-humankind/
LOCATION:Commonplace Coffee\, 7514 Thomas Blvd\, Suite 100\, Pittsburgh\, PA\, 15208\, United States
END:VEVENT
BEGIN:VEVENT
DTSTART;TZID=America/New_York:20240319T200000
DTEND;TZID=America/New_York:20240319T220000
DTSTAMP:20260422T193018
CREATED:20240210T224708Z
LAST-MODIFIED:20240217T174601Z
UID:4709-1710878400-1710885600@sapgh.org
SUMMARY:Spring Equinox Celebration
DESCRIPTION:Celebrate the coming of spring with a casual hangout on the equinox on March 29 at 3pm! Weather permitting\, we'll be outside with a campfire. BYO drinks or snacks if you like\, but no contributions are necessary. If you have seeds to share for planting in the spring\, bring them along for a seed swap! EventContinue reading "A Spring Equinox Celebration!"
URL:https://sapgh.org/event/spring-equinox-celebration/
LOCATION:PA
END:VEVENT
BEGIN:VEVENT
DTSTART;TZID=America/New_York:20240317T100000
DTEND;TZID=America/New_York:20240317T113000
DTSTAMP:20260422T193018
CREATED:20240224T222655Z
LAST-MODIFIED:20240319T161505Z
UID:4799-1710669600-1710675000@sapgh.org
SUMMARY:Sunday Assembly PGH March: Sapiens (The History of Humankind)
DESCRIPTION:Celebrate the coming of spring with a casual hangout on the equinox on March 29 at 3pm! Weather permitting\, we'll be outside with a campfire. BYO drinks or snacks if you like\, but no contributions are necessary. If you have seeds to share for planting in the spring\, bring them along for a seed swap! EventContinue reading "A Spring Equinox Celebration!"
URL:https://sapgh.org/event/sunday-assembly-pgh-march-sapiens-the-history-of-humankind/
LOCATION:Wilkins School Community Center\, 7604 Charleston Ave\, Pittsburgh\, PA\, 15218\, United States
END:VEVENT
BEGIN:VEVENT
DTSTART;TZID=America/New_York:20240224T110000
DTEND;TZID=America/New_York:20240224T123000
DTSTAMP:20260422T193018
CREATED:20240122T221044Z
LAST-MODIFIED:20240123T014457Z
UID:4605-1708772400-1708777800@sapgh.org
SUMMARY:February Community Gathering: Coffee & Conversation (Obsessions Edition)
DESCRIPTION:Celebrate the coming of spring with a casual hangout on the equinox on March 29 at 3pm! Weather permitting\, we'll be outside with a campfire. BYO drinks or snacks if you like\, but no contributions are necessary. If you have seeds to share for planting in the spring\, bring them along for a seed swap! EventContinue reading "A Spring Equinox Celebration!"
URL:https://sapgh.org/event/february-community-gathering-coffee-conversation-obsessions-edition/
LOCATION:Caffè d’Amore Coffeeshop\, 5308 Butler St\, Pittsburgh\, PA\, PA\, 15201
END:VEVENT
BEGIN:VEVENT
DTSTART;TZID=America/New_York:20240218T120000
DTEND;TZID=America/New_York:20240218T140000
DTSTAMP:20260422T193018
CREATED:20240127T191429Z
LAST-MODIFIED:20240127T191432Z
UID:4643-1708257600-1708264800@sapgh.org
SUMMARY:February Service Project: Book Packing with the Pgh Prison Book Project
DESCRIPTION:Celebrate the coming of spring with a casual hangout on the equinox on March 29 at 3pm! Weather permitting\, we'll be outside with a campfire. BYO drinks or snacks if you like\, but no contributions are necessary. If you have seeds to share for planting in the spring\, bring them along for a seed swap! EventContinue reading "A Spring Equinox Celebration!"
URL:https://sapgh.org/event/february-service-project-book-packing-with-the-pgh-prison-book-project/
LOCATION:Spartan Community Center\, 134 E Elizabeth St\, Pittsburgh\, PA\, 15207\, United States
ORGANIZER;CN="Pittsburgh Prison Book Project":MAILTO:pghprisonbookproject@gmail.com
END:VEVENT
BEGIN:VEVENT
DTSTART;TZID=America/New_York:20240218T100000
DTEND;TZID=America/New_York:20240218T113000
DTSTAMP:20260422T193018
CREATED:20240119T160922Z
LAST-MODIFIED:20240119T161154Z
UID:4543-1708250400-1708255800@sapgh.org
SUMMARY:Sunday Assembly PGH February: Obsession
DESCRIPTION:Celebrate the coming of spring with a casual hangout on the equinox on March 29 at 3pm! Weather permitting\, we'll be outside with a campfire. BYO drinks or snacks if you like\, but no contributions are necessary. If you have seeds to share for planting in the spring\, bring them along for a seed swap! EventContinue reading "A Spring Equinox Celebration!"
URL:https://sapgh.org/event/sunday-assembly-pgh-february-obsession/
LOCATION:Wilkins School Community Center\, 7604 Charleston Ave\, Pittsburgh\, PA\, 15218\, United States
END:VEVENT
BEGIN:VEVENT
DTSTART;TZID=America/New_York:20240121T100000
DTEND;TZID=America/New_York:20240121T113000
DTSTAMP:20260422T193018
CREATED:20240103T033309Z
LAST-MODIFIED:20240119T162259Z
UID:4452-1705831200-1705836600@sapgh.org
SUMMARY:Sunday Assembly PGH January:  Artificial Intelligence
DESCRIPTION:Celebrate the coming of spring with a casual hangout on the equinox on March 29 at 3pm! Weather permitting\, we'll be outside with a campfire. BYO drinks or snacks if you like\, but no contributions are necessary. If you have seeds to share for planting in the spring\, bring them along for a seed swap! EventContinue reading "A Spring Equinox Celebration!"
URL:https://sapgh.org/event/sunday-assembly-january-artificial-intelligence/
LOCATION:Wilkins School Community Center\, 7604 Charleston Ave\, Pittsburgh\, PA\, 15218\, United States
END:VEVENT
BEGIN:VEVENT
DTSTART;TZID=America/New_York:20231216T190000
DTEND;TZID=America/New_York:20231216T203000
DTSTAMP:20260422T193018
CREATED:20230719T135402Z
LAST-MODIFIED:20231205T030152Z
UID:4017-1702753200-1702758600@sapgh.org
SUMMARY:December Sunday Assembly (Yule Rock:  LOVE)
DESCRIPTION:Celebrate the coming of spring with a casual hangout on the equinox on March 29 at 3pm! Weather permitting\, we'll be outside with a campfire. BYO drinks or snacks if you like\, but no contributions are necessary. If you have seeds to share for planting in the spring\, bring them along for a seed swap! EventContinue reading "A Spring Equinox Celebration!"
URL:https://sapgh.org/event/december-sunday-assembly-yule-rock-love/
LOCATION:Wilkins School Community Center\, 7604 Charleston Ave\, Pittsburgh\, PA\, 15218\, United States
END:VEVENT
BEGIN:VEVENT
DTSTART;TZID=America/New_York:20231210T120000
DTEND;TZID=America/New_York:20231210T160000
DTSTAMP:20260422T193018
CREATED:20231121T034111Z
LAST-MODIFIED:20231121T035056Z
UID:4343-1702209600-1702224000@sapgh.org
SUMMARY:Festivus Celebration
DESCRIPTION:Celebrate the coming of spring with a casual hangout on the equinox on March 29 at 3pm! Weather permitting\, we'll be outside with a campfire. BYO drinks or snacks if you like\, but no contributions are necessary. If you have seeds to share for planting in the spring\, bring them along for a seed swap! EventContinue reading "A Spring Equinox Celebration!"
URL:https://sapgh.org/event/festivus-celebration/
LOCATION:Penn Brewery\, 800 Vinial Street\, Pittsburgh\, PA\, 15212\, United States
ORGANIZER;CN="Pittsburgh Freethought Community":MAILTO:info@pghfreethought.org
END:VEVENT
END:VCALENDAR