BEGIN:VCALENDAR
VERSION:2.0
PRODID:-//Sunday Assembly Pittsburgh - ECPv6.15.20//NONSGML v1.0//EN
CALSCALE:GREGORIAN
METHOD:PUBLISH
X-WR-CALNAME:Sunday Assembly Pittsburgh
X-ORIGINAL-URL:https://sapgh.org
X-WR-CALDESC:Events for Sunday Assembly Pittsburgh
REFRESH-INTERVAL;VALUE=DURATION:PT1H
X-Robots-Tag:noindex
X-PUBLISHED-TTL:PT1H
BEGIN:VTIMEZONE
TZID:America/New_York
BEGIN:DAYLIGHT
TZOFFSETFROM:-0500
TZOFFSETTO:-0400
TZNAME:EDT
DTSTART:20210314T070000
END:DAYLIGHT
BEGIN:STANDARD
TZOFFSETFROM:-0400
TZOFFSETTO:-0500
TZNAME:EST
DTSTART:20211107T060000
END:STANDARD
BEGIN:DAYLIGHT
TZOFFSETFROM:-0500
TZOFFSETTO:-0400
TZNAME:EDT
DTSTART:20220313T070000
END:DAYLIGHT
BEGIN:STANDARD
TZOFFSETFROM:-0400
TZOFFSETTO:-0500
TZNAME:EST
DTSTART:20221106T060000
END:STANDARD
BEGIN:DAYLIGHT
TZOFFSETFROM:-0500
TZOFFSETTO:-0400
TZNAME:EDT
DTSTART:20230312T070000
END:DAYLIGHT
BEGIN:STANDARD
TZOFFSETFROM:-0400
TZOFFSETTO:-0500
TZNAME:EST
DTSTART:20231105T060000
END:STANDARD
BEGIN:DAYLIGHT
TZOFFSETFROM:-0500
TZOFFSETTO:-0400
TZNAME:EDT
DTSTART:20240310T070000
END:DAYLIGHT
BEGIN:STANDARD
TZOFFSETFROM:-0400
TZOFFSETTO:-0500
TZNAME:EST
DTSTART:20241103T060000
END:STANDARD
BEGIN:DAYLIGHT
TZOFFSETFROM:-0500
TZOFFSETTO:-0400
TZNAME:EDT
DTSTART:20250309T070000
END:DAYLIGHT
BEGIN:STANDARD
TZOFFSETFROM:-0400
TZOFFSETTO:-0500
TZNAME:EST
DTSTART:20251102T060000
END:STANDARD
END:VTIMEZONE
BEGIN:VEVENT
DTSTART;TZID=America/New_York:20240224T110000
DTEND;TZID=America/New_York:20240224T123000
DTSTAMP:20260424T070556
CREATED:20240122T221044Z
LAST-MODIFIED:20240123T014457Z
UID:4605-1708772400-1708777800@sapgh.org
SUMMARY:February Community Gathering: Coffee & Conversation (Obsessions Edition)
DESCRIPTION:In this month of post-election / pre-holiday limbo\, we are mixing it up a bit and focusing on being COZY together! Wear your coziest PJs\, bring a chili or soup to share for our 2nd annual cook-off\, and get on the mic to read a poem or sing a song that brings you the mostContinue reading "Sunday Assembly PGH November (Remix): Cozy Open Mic & Chili/Soup Cook-Off!"
URL:https://sapgh.org/event/february-community-gathering-coffee-conversation-obsessions-edition/
LOCATION:Caffè d’Amore Coffeeshop\, 5308 Butler St\, Pittsburgh\, PA\, PA\, 15201
END:VEVENT
BEGIN:VEVENT
DTSTART;TZID=America/New_York:20240218T120000
DTEND;TZID=America/New_York:20240218T140000
DTSTAMP:20260424T070556
CREATED:20240127T191429Z
LAST-MODIFIED:20240127T191432Z
UID:4643-1708257600-1708264800@sapgh.org
SUMMARY:February Service Project: Book Packing with the Pgh Prison Book Project
DESCRIPTION:In this month of post-election / pre-holiday limbo\, we are mixing it up a bit and focusing on being COZY together! Wear your coziest PJs\, bring a chili or soup to share for our 2nd annual cook-off\, and get on the mic to read a poem or sing a song that brings you the mostContinue reading "Sunday Assembly PGH November (Remix): Cozy Open Mic & Chili/Soup Cook-Off!"
URL:https://sapgh.org/event/february-service-project-book-packing-with-the-pgh-prison-book-project/
LOCATION:Spartan Community Center\, 134 E Elizabeth St\, Pittsburgh\, PA\, 15207\, United States
ORGANIZER;CN="Pittsburgh Prison Book Project":MAILTO:pghprisonbookproject@gmail.com
END:VEVENT
BEGIN:VEVENT
DTSTART;TZID=America/New_York:20240218T100000
DTEND;TZID=America/New_York:20240218T113000
DTSTAMP:20260424T070556
CREATED:20240119T160922Z
LAST-MODIFIED:20240119T161154Z
UID:4543-1708250400-1708255800@sapgh.org
SUMMARY:Sunday Assembly PGH February: Obsession
DESCRIPTION:In this month of post-election / pre-holiday limbo\, we are mixing it up a bit and focusing on being COZY together! Wear your coziest PJs\, bring a chili or soup to share for our 2nd annual cook-off\, and get on the mic to read a poem or sing a song that brings you the mostContinue reading "Sunday Assembly PGH November (Remix): Cozy Open Mic & Chili/Soup Cook-Off!"
URL:https://sapgh.org/event/sunday-assembly-pgh-february-obsession/
LOCATION:Wilkins School Community Center\, 7604 Charleston Ave\, Pittsburgh\, PA\, 15218\, United States
END:VEVENT
BEGIN:VEVENT
DTSTART;TZID=America/New_York:20240121T100000
DTEND;TZID=America/New_York:20240121T113000
DTSTAMP:20260424T070556
CREATED:20240103T033309Z
LAST-MODIFIED:20240119T162259Z
UID:4452-1705831200-1705836600@sapgh.org
SUMMARY:Sunday Assembly PGH January:  Artificial Intelligence
DESCRIPTION:In this month of post-election / pre-holiday limbo\, we are mixing it up a bit and focusing on being COZY together! Wear your coziest PJs\, bring a chili or soup to share for our 2nd annual cook-off\, and get on the mic to read a poem or sing a song that brings you the mostContinue reading "Sunday Assembly PGH November (Remix): Cozy Open Mic & Chili/Soup Cook-Off!"
URL:https://sapgh.org/event/sunday-assembly-january-artificial-intelligence/
LOCATION:Wilkins School Community Center\, 7604 Charleston Ave\, Pittsburgh\, PA\, 15218\, United States
END:VEVENT
BEGIN:VEVENT
DTSTART;TZID=America/New_York:20231216T190000
DTEND;TZID=America/New_York:20231216T203000
DTSTAMP:20260424T070556
CREATED:20230719T135402Z
LAST-MODIFIED:20231205T030152Z
UID:4017-1702753200-1702758600@sapgh.org
SUMMARY:December Sunday Assembly (Yule Rock:  LOVE)
DESCRIPTION:In this month of post-election / pre-holiday limbo\, we are mixing it up a bit and focusing on being COZY together! Wear your coziest PJs\, bring a chili or soup to share for our 2nd annual cook-off\, and get on the mic to read a poem or sing a song that brings you the mostContinue reading "Sunday Assembly PGH November (Remix): Cozy Open Mic & Chili/Soup Cook-Off!"
URL:https://sapgh.org/event/december-sunday-assembly-yule-rock-love/
LOCATION:Wilkins School Community Center\, 7604 Charleston Ave\, Pittsburgh\, PA\, 15218\, United States
END:VEVENT
BEGIN:VEVENT
DTSTART;TZID=America/New_York:20231210T120000
DTEND;TZID=America/New_York:20231210T160000
DTSTAMP:20260424T070556
CREATED:20231121T034111Z
LAST-MODIFIED:20231121T035056Z
UID:4343-1702209600-1702224000@sapgh.org
SUMMARY:Festivus Celebration
DESCRIPTION:In this month of post-election / pre-holiday limbo\, we are mixing it up a bit and focusing on being COZY together! Wear your coziest PJs\, bring a chili or soup to share for our 2nd annual cook-off\, and get on the mic to read a poem or sing a song that brings you the mostContinue reading "Sunday Assembly PGH November (Remix): Cozy Open Mic & Chili/Soup Cook-Off!"
URL:https://sapgh.org/event/festivus-celebration/
LOCATION:Penn Brewery\, 800 Vinial Street\, Pittsburgh\, PA\, 15212\, United States
ORGANIZER;CN="Pittsburgh Freethought Community":MAILTO:info@pghfreethought.org
END:VEVENT
BEGIN:VEVENT
DTSTART;TZID=America/New_York:20231119T100000
DTEND;TZID=America/New_York:20231217T113000
DTSTAMP:20260424T070556
CREATED:20230929T205844Z
LAST-MODIFIED:20231003T012306Z
UID:4175-1700388000-1702812600@sapgh.org
SUMMARY:Pittsburgh Prison Book Project
DESCRIPTION:In this month of post-election / pre-holiday limbo\, we are mixing it up a bit and focusing on being COZY together! Wear your coziest PJs\, bring a chili or soup to share for our 2nd annual cook-off\, and get on the mic to read a poem or sing a song that brings you the mostContinue reading "Sunday Assembly PGH November (Remix): Cozy Open Mic & Chili/Soup Cook-Off!"
URL:https://sapgh.org/event/pittsburgh-prison-book-project/
LOCATION:Wilkins School Community Center\, 7604 Charleston Ave\, Pittsburgh\, PA\, 15218\, United States
END:VEVENT
BEGIN:VEVENT
DTSTART;TZID=America/New_York:20231119T100000
DTEND;TZID=America/New_York:20231119T113000
DTSTAMP:20260424T070556
CREATED:20230719T134915Z
LAST-MODIFIED:20230719T134915Z
UID:4014-1700388000-1700393400@sapgh.org
SUMMARY:November Sunday Assembly (Art)
DESCRIPTION:In this month of post-election / pre-holiday limbo\, we are mixing it up a bit and focusing on being COZY together! Wear your coziest PJs\, bring a chili or soup to share for our 2nd annual cook-off\, and get on the mic to read a poem or sing a song that brings you the mostContinue reading "Sunday Assembly PGH November (Remix): Cozy Open Mic & Chili/Soup Cook-Off!"
URL:https://sapgh.org/event/november-sunday-assembly-art/
LOCATION:Wilkins School Community Center\, 7604 Charleston Ave\, Pittsburgh\, PA\, 15218\, United States
END:VEVENT
BEGIN:VEVENT
DTSTART;TZID=America/New_York:20231111T130000
DTEND;TZID=America/New_York:20231111T170000
DTSTAMP:20260424T070556
CREATED:20231029T162844Z
LAST-MODIFIED:20231029T164856Z
UID:4236-1699707600-1699722000@sapgh.org
SUMMARY:SA Community Visits the Carnegie Museum of Art
DESCRIPTION:In this month of post-election / pre-holiday limbo\, we are mixing it up a bit and focusing on being COZY together! Wear your coziest PJs\, bring a chili or soup to share for our 2nd annual cook-off\, and get on the mic to read a poem or sing a song that brings you the mostContinue reading "Sunday Assembly PGH November (Remix): Cozy Open Mic & Chili/Soup Cook-Off!"
URL:https://sapgh.org/event/sa-community-visits-the-carnegie-museum-of-art/
LOCATION:Carnegie Museum of Art in Oakland\, 4400 Forbes Ave\, Pittsburgh\, PA\, 15213\, United States
END:VEVENT
BEGIN:VEVENT
DTSTART;TZID=America/New_York:20231105T120000
DTEND;TZID=America/New_York:20231105T160000
DTSTAMP:20260424T070556
CREATED:20231101T184832Z
LAST-MODIFIED:20231101T185932Z
UID:4248-1699185600-1699200000@sapgh.org
SUMMARY:Painting Pottery at Katie’s Clay Studio
DESCRIPTION:In this month of post-election / pre-holiday limbo\, we are mixing it up a bit and focusing on being COZY together! Wear your coziest PJs\, bring a chili or soup to share for our 2nd annual cook-off\, and get on the mic to read a poem or sing a song that brings you the mostContinue reading "Sunday Assembly PGH November (Remix): Cozy Open Mic & Chili/Soup Cook-Off!"
URL:https://sapgh.org/event/painting-pottery-at-katies-clay-studio/
LOCATION:Katie’s Clay Studio\, 5562 William Flynn Highway\, Gibsonia\, PA\, 15044\, United States
END:VEVENT
BEGIN:VEVENT
DTSTART;TZID=America/New_York:20231028T110000
DTEND;TZID=America/New_York:20231028T120000
DTSTAMP:20260424T070556
CREATED:20230822T012416Z
LAST-MODIFIED:20230822T012416Z
UID:4074-1698490800-1698494400@sapgh.org
SUMMARY:Multimedia Meetup: "The Center Cannot Hold: My Journey Through Madness" by Elyn Saks
DESCRIPTION:In this month of post-election / pre-holiday limbo\, we are mixing it up a bit and focusing on being COZY together! Wear your coziest PJs\, bring a chili or soup to share for our 2nd annual cook-off\, and get on the mic to read a poem or sing a song that brings you the mostContinue reading "Sunday Assembly PGH November (Remix): Cozy Open Mic & Chili/Soup Cook-Off!"
URL:https://sapgh.org/event/multimedia-meetup-the-center-cannot-hold-my-journey-through-madness-by-elyn-saks/
LOCATION:7107 Harrison Avenue\, Swissvale\, PA 15218\, 7107 Harrison Avenue\, Swissvale\, PA\, 15218\, United States
END:VEVENT
BEGIN:VEVENT
DTSTART;TZID=America/New_York:20231015T100000
DTEND;TZID=America/New_York:20231015T113000
DTSTAMP:20260424T070556
CREATED:20230719T131242Z
LAST-MODIFIED:20230719T140006Z
UID:4004-1697364000-1697369400@sapgh.org
SUMMARY:October Sunday Assembly (Death & Dying:  Impermanence)
DESCRIPTION:In this month of post-election / pre-holiday limbo\, we are mixing it up a bit and focusing on being COZY together! Wear your coziest PJs\, bring a chili or soup to share for our 2nd annual cook-off\, and get on the mic to read a poem or sing a song that brings you the mostContinue reading "Sunday Assembly PGH November (Remix): Cozy Open Mic & Chili/Soup Cook-Off!"
URL:https://sapgh.org/event/october-sunday-assembly-death-dying-impermanence/
LOCATION:Wilkins School Community Center\, 7604 Charleston Ave\, Pittsburgh\, PA\, 15218\, United States
END:VEVENT
BEGIN:VEVENT
DTSTART;TZID=America/New_York:20231008T100000
DTEND;TZID=America/New_York:20231008T120000
DTSTAMP:20260424T070556
CREATED:20230904T135305Z
LAST-MODIFIED:20230904T135328Z
UID:4133-1696759200-1696766400@sapgh.org
SUMMARY:October "Help Often" Event
DESCRIPTION:In this month of post-election / pre-holiday limbo\, we are mixing it up a bit and focusing on being COZY together! Wear your coziest PJs\, bring a chili or soup to share for our 2nd annual cook-off\, and get on the mic to read a poem or sing a song that brings you the mostContinue reading "Sunday Assembly PGH November (Remix): Cozy Open Mic & Chili/Soup Cook-Off!"
URL:https://sapgh.org/event/october-help-often-event/
LOCATION:The Maple Leaf\, 115 Sedgwick Street\, Millvale\, PA\, 15209\, United States
END:VEVENT
BEGIN:VEVENT
DTSTART;TZID=America/New_York:20230926T190000
DTEND;TZID=America/New_York:20230926T203000
DTSTAMP:20260424T070556
CREATED:20230822T011625Z
LAST-MODIFIED:20230822T011625Z
UID:4070-1695754800-1695760200@sapgh.org
SUMMARY:Storytelling:  Healthcare &Humanity Reading Series at City of Asylum
DESCRIPTION:In this month of post-election / pre-holiday limbo\, we are mixing it up a bit and focusing on being COZY together! Wear your coziest PJs\, bring a chili or soup to share for our 2nd annual cook-off\, and get on the mic to read a poem or sing a song that brings you the mostContinue reading "Sunday Assembly PGH November (Remix): Cozy Open Mic & Chili/Soup Cook-Off!"
URL:https://sapgh.org/event/storytelling-healthcare-humanity-reading-series-at-city-of-asylum/
LOCATION:City of Asylum\, 40 W. North Avenue\, Pittsburgh\, Pennsylvania\, 15212
END:VEVENT
BEGIN:VEVENT
DTSTART;TZID=America/New_York:20230923T200000
DTEND;TZID=America/New_York:20230923T200000
DTSTAMP:20260424T070556
CREATED:20230904T033203Z
LAST-MODIFIED:20230904T033203Z
UID:4130-1695499200-1695499200@sapgh.org
SUMMARY:Autumnal Equinox Party
DESCRIPTION:In this month of post-election / pre-holiday limbo\, we are mixing it up a bit and focusing on being COZY together! Wear your coziest PJs\, bring a chili or soup to share for our 2nd annual cook-off\, and get on the mic to read a poem or sing a song that brings you the mostContinue reading "Sunday Assembly PGH November (Remix): Cozy Open Mic & Chili/Soup Cook-Off!"
URL:https://sapgh.org/event/autumnal-equinox-party/
LOCATION:PA
END:VEVENT
BEGIN:VEVENT
DTSTART;TZID=America/New_York:20230917T100000
DTEND;TZID=America/New_York:20230917T113000
DTSTAMP:20260424T070556
CREATED:20230706T025631Z
LAST-MODIFIED:20230719T135845Z
UID:3980-1694944800-1694950200@sapgh.org
SUMMARY:September Sunday Assembly (Storytelling)
DESCRIPTION:In this month of post-election / pre-holiday limbo\, we are mixing it up a bit and focusing on being COZY together! Wear your coziest PJs\, bring a chili or soup to share for our 2nd annual cook-off\, and get on the mic to read a poem or sing a song that brings you the mostContinue reading "Sunday Assembly PGH November (Remix): Cozy Open Mic & Chili/Soup Cook-Off!"
URL:https://sapgh.org/event/sunday-assembly-september-edition/
LOCATION:Wilkins School Community Center\, 7604 Charleston Ave\, Pittsburgh\, PA\, 15218\, United States
END:VEVENT
BEGIN:VEVENT
DTSTART;TZID=America/New_York:20230818T183000
DTEND;TZID=America/New_York:20230818T213000
DTSTAMP:20260424T070556
CREATED:20230709T200507Z
LAST-MODIFIED:20230709T200644Z
UID:3989-1692383400-1692394200@sapgh.org
SUMMARY:Summer Friday at the Friday and Car and Carriage Museum Visit
DESCRIPTION:In this month of post-election / pre-holiday limbo\, we are mixing it up a bit and focusing on being COZY together! Wear your coziest PJs\, bring a chili or soup to share for our 2nd annual cook-off\, and get on the mic to read a poem or sing a song that brings you the mostContinue reading "Sunday Assembly PGH November (Remix): Cozy Open Mic & Chili/Soup Cook-Off!"
URL:https://sapgh.org/event/summer-friday-at-the-friday-and-car-and-carriage-museum-visit/
LOCATION:The Frick Pittsburgh\, 7227 Reynolds Street\, Pittsburgh\, PA\, 15208\, United States
END:VEVENT
BEGIN:VEVENT
DTSTART;TZID=America/New_York:20230723T100000
DTEND;TZID=America/New_York:20230723T113000
DTSTAMP:20260424T070556
CREATED:20230621T013203Z
LAST-MODIFIED:20230719T130520Z
UID:3946-1690106400-1690111800@sapgh.org
SUMMARY:Multimedia Meetup: Care Work by Leah Lakshmi Piepzna-Samarasinha
DESCRIPTION:In this month of post-election / pre-holiday limbo\, we are mixing it up a bit and focusing on being COZY together! Wear your coziest PJs\, bring a chili or soup to share for our 2nd annual cook-off\, and get on the mic to read a poem or sing a song that brings you the mostContinue reading "Sunday Assembly PGH November (Remix): Cozy Open Mic & Chili/Soup Cook-Off!"
URL:https://sapgh.org/event/multimedia-meetup-care-work-by-leah-lakshmi-piepzna-samarasinha/
LOCATION:Dobra Tea Pittsburgh\, 1937 Murray Avenue\, Pittsburgh\, PA\, 15217\, United States
END:VEVENT
BEGIN:VEVENT
DTSTART;TZID=America/New_York:20230716T100000
DTEND;TZID=America/New_York:20230716T113000
DTSTAMP:20260424T070556
CREATED:20230706T023206Z
LAST-MODIFIED:20230706T023206Z
UID:3969-1689501600-1689507000@sapgh.org
SUMMARY:Sunday Assembly
DESCRIPTION:In this month of post-election / pre-holiday limbo\, we are mixing it up a bit and focusing on being COZY together! Wear your coziest PJs\, bring a chili or soup to share for our 2nd annual cook-off\, and get on the mic to read a poem or sing a song that brings you the mostContinue reading "Sunday Assembly PGH November (Remix): Cozy Open Mic & Chili/Soup Cook-Off!"
URL:https://sapgh.org/event/sunday-assembly-6/
LOCATION:Wilkins School Community Center\, 7604 Charleston Ave\, Pittsburgh\, PA\, 15218\, United States
ATTACH;FMTTYPE=image/png:https://sapgh.org/wp-content/uploads/2023/07/July-2023.png
END:VEVENT
BEGIN:VEVENT
DTSTART;TZID=America/New_York:20230618T100000
DTEND;TZID=America/New_York:20230618T113000
DTSTAMP:20260424T070556
CREATED:20230523T010135Z
LAST-MODIFIED:20230523T023017Z
UID:3882-1687082400-1687087800@sapgh.org
SUMMARY:Sunday Assembly - June 2023
DESCRIPTION:In this month of post-election / pre-holiday limbo\, we are mixing it up a bit and focusing on being COZY together! Wear your coziest PJs\, bring a chili or soup to share for our 2nd annual cook-off\, and get on the mic to read a poem or sing a song that brings you the mostContinue reading "Sunday Assembly PGH November (Remix): Cozy Open Mic & Chili/Soup Cook-Off!"
URL:https://sapgh.org/event/sunday-assembly-june-2023/
LOCATION:Wilkins School Community Center\, 7604 Charleston Ave\, Pittsburgh\, PA\, 15218\, United States
END:VEVENT
BEGIN:VEVENT
DTSTART;TZID=America/New_York:20230320T190000
DTEND;TZID=America/New_York:20230320T213000
DTSTAMP:20260424T070556
CREATED:20230308T163401Z
LAST-MODIFIED:20230309T213238Z
UID:3753-1679338800-1679347800@sapgh.org
SUMMARY:Vernal Equinox Gathering
DESCRIPTION:In this month of post-election / pre-holiday limbo\, we are mixing it up a bit and focusing on being COZY together! Wear your coziest PJs\, bring a chili or soup to share for our 2nd annual cook-off\, and get on the mic to read a poem or sing a song that brings you the mostContinue reading "Sunday Assembly PGH November (Remix): Cozy Open Mic & Chili/Soup Cook-Off!"
URL:https://sapgh.org/event/vernal-equinox-gathering/
LOCATION:RSVP Required to reveal location
ATTACH;FMTTYPE=image/png:https://sapgh.org/wp-content/uploads/2023/03/2023-03.20-Vernal-Equinox-e1678397467697.png
END:VEVENT
BEGIN:VEVENT
DTSTART;TZID=America/New_York:20230226T110000
DTEND;TZID=America/New_York:20230226T123000
DTSTAMP:20260424T070556
CREATED:20230102T041425Z
LAST-MODIFIED:20230102T041425Z
UID:3680-1677409200-1677414600@sapgh.org
SUMMARY:February Community Event:  Community Circle
DESCRIPTION:In this month of post-election / pre-holiday limbo\, we are mixing it up a bit and focusing on being COZY together! Wear your coziest PJs\, bring a chili or soup to share for our 2nd annual cook-off\, and get on the mic to read a poem or sing a song that brings you the mostContinue reading "Sunday Assembly PGH November (Remix): Cozy Open Mic & Chili/Soup Cook-Off!"
URL:https://sapgh.org/event/february-community-event-community-circle/
LOCATION:RSVP Required to reveal location
ATTACH;FMTTYPE=image/png:https://sapgh.org/wp-content/uploads/2023/01/2023-02.png
END:VEVENT
BEGIN:VEVENT
DTSTART;TZID=America/New_York:20230219T100000
DTEND;TZID=America/New_York:20230219T113000
DTSTAMP:20260424T070556
CREATED:20230102T041110Z
LAST-MODIFIED:20230102T041110Z
UID:3677-1676800800-1676806200@sapgh.org
SUMMARY:February Sunday Assembly
DESCRIPTION:In this month of post-election / pre-holiday limbo\, we are mixing it up a bit and focusing on being COZY together! Wear your coziest PJs\, bring a chili or soup to share for our 2nd annual cook-off\, and get on the mic to read a poem or sing a song that brings you the mostContinue reading "Sunday Assembly PGH November (Remix): Cozy Open Mic & Chili/Soup Cook-Off!"
URL:https://sapgh.org/event/february-sunday-assembly/
LOCATION:Wilkins School Community Center\, 7604 Charleston Ave\, Pittsburgh\, PA\, 15218\, United States
ATTACH;FMTTYPE=image/png:https://sapgh.org/wp-content/uploads/2023/01/2023-02.png
END:VEVENT
BEGIN:VEVENT
DTSTART;TZID=America/New_York:20230129T140000
DTEND;TZID=America/New_York:20230129T153000
DTSTAMP:20260424T070556
CREATED:20230102T040812Z
LAST-MODIFIED:20230102T040812Z
UID:3674-1675000800-1675006200@sapgh.org
SUMMARY:January Community Event:  Multimedia Meetup
DESCRIPTION:In this month of post-election / pre-holiday limbo\, we are mixing it up a bit and focusing on being COZY together! Wear your coziest PJs\, bring a chili or soup to share for our 2nd annual cook-off\, and get on the mic to read a poem or sing a song that brings you the mostContinue reading "Sunday Assembly PGH November (Remix): Cozy Open Mic & Chili/Soup Cook-Off!"
URL:https://sapgh.org/event/january-community-event-multimedia-meetup/
LOCATION:RSVP Required to reveal location
ATTACH;FMTTYPE=image/png:https://sapgh.org/wp-content/uploads/2023/01/2023-01.png
END:VEVENT
BEGIN:VEVENT
DTSTART;TZID=America/New_York:20230115T100000
DTEND;TZID=America/New_York:20230115T113000
DTSTAMP:20260424T070556
CREATED:20230102T040338Z
LAST-MODIFIED:20230102T040338Z
UID:3669-1673776800-1673782200@sapgh.org
SUMMARY:January Sunday Assembly
DESCRIPTION:In this month of post-election / pre-holiday limbo\, we are mixing it up a bit and focusing on being COZY together! Wear your coziest PJs\, bring a chili or soup to share for our 2nd annual cook-off\, and get on the mic to read a poem or sing a song that brings you the mostContinue reading "Sunday Assembly PGH November (Remix): Cozy Open Mic & Chili/Soup Cook-Off!"
URL:https://sapgh.org/event/january-sunday-assembly/
LOCATION:Wilkins School Community Center\, 7604 Charleston Ave\, Pittsburgh\, PA\, 15218\, United States
ATTACH;FMTTYPE=image/png:https://sapgh.org/wp-content/uploads/2023/01/2023-01.png
END:VEVENT
BEGIN:VEVENT
DTSTART;TZID=America/New_York:20221221T190000
DTEND;TZID=America/New_York:20221221T210000
DTSTAMP:20260424T070556
CREATED:20221103T144800Z
LAST-MODIFIED:20221103T150201Z
UID:3597-1671649200-1671656400@sapgh.org
SUMMARY:Winter Solstice Celebration
DESCRIPTION:In this month of post-election / pre-holiday limbo\, we are mixing it up a bit and focusing on being COZY together! Wear your coziest PJs\, bring a chili or soup to share for our 2nd annual cook-off\, and get on the mic to read a poem or sing a song that brings you the mostContinue reading "Sunday Assembly PGH November (Remix): Cozy Open Mic & Chili/Soup Cook-Off!"
URL:https://sapgh.org/event/winter-solstice-celebration/
LOCATION:PA
ATTACH;FMTTYPE=image/png:https://sapgh.org/wp-content/uploads/2022/11/2022-12-Winter-Solstice.png
END:VEVENT
BEGIN:VEVENT
DTSTART;TZID=America/New_York:20221218T190000
DTEND;TZID=America/New_York:20221218T203000
DTSTAMP:20260424T070556
CREATED:20221206T022732Z
LAST-MODIFIED:20221206T031923Z
UID:3632-1671390000-1671395400@sapgh.org
SUMMARY:Yule Rock!
DESCRIPTION:In this month of post-election / pre-holiday limbo\, we are mixing it up a bit and focusing on being COZY together! Wear your coziest PJs\, bring a chili or soup to share for our 2nd annual cook-off\, and get on the mic to read a poem or sing a song that brings you the mostContinue reading "Sunday Assembly PGH November (Remix): Cozy Open Mic & Chili/Soup Cook-Off!"
URL:https://sapgh.org/event/yule-rock/
LOCATION:Wilkins School Community Center\, 7604 Charleston Ave\, Pittsburgh\, PA\, 15218\, United States
ATTACH;FMTTYPE=image/png:https://sapgh.org/wp-content/uploads/2022/12/2022-Yule-Rock-1.png
END:VEVENT
BEGIN:VEVENT
DTSTART;TZID=America/New_York:20221211T140000
DTEND;TZID=America/New_York:20221211T160000
DTSTAMP:20260424T070556
CREATED:20221120T164114Z
LAST-MODIFIED:20221120T164114Z
UID:3621-1670767200-1670774400@sapgh.org
SUMMARY:After Hours Event!
DESCRIPTION:In this month of post-election / pre-holiday limbo\, we are mixing it up a bit and focusing on being COZY together! Wear your coziest PJs\, bring a chili or soup to share for our 2nd annual cook-off\, and get on the mic to read a poem or sing a song that brings you the mostContinue reading "Sunday Assembly PGH November (Remix): Cozy Open Mic & Chili/Soup Cook-Off!"
URL:https://sapgh.org/event/after-hours-event/
LOCATION:Steel City Improv\, 5950 Ellsworth Avenue\, Pittsburgh\, PA\, 15232\, United States
ATTACH;FMTTYPE=image/png:https://sapgh.org/wp-content/uploads/2022/11/2022-12-Jimmy-at-Improv.png
END:VEVENT
BEGIN:VEVENT
DTSTART;TZID=America/New_York:20221201T190000
DTEND;TZID=America/New_York:20221201T210000
DTSTAMP:20260424T070556
CREATED:20221120T161031Z
LAST-MODIFIED:20221120T161031Z
UID:3616-1669921200-1669928400@sapgh.org
SUMMARY:After Hours Event!  Presenting...Tom Roberts & his Charlie Chaplin Silent Picture Show
DESCRIPTION:In this month of post-election / pre-holiday limbo\, we are mixing it up a bit and focusing on being COZY together! Wear your coziest PJs\, bring a chili or soup to share for our 2nd annual cook-off\, and get on the mic to read a poem or sing a song that brings you the mostContinue reading "Sunday Assembly PGH November (Remix): Cozy Open Mic & Chili/Soup Cook-Off!"
URL:https://sapgh.org/event/after-hours-event-presenting-tom-roberts-his-charlie-chaplin-silent-picture-show/
LOCATION:115 Sedgwick Street\, Pittsburgh\, PA 15209\, 115 Sedgwick Street\, Millvale\, PA\, 15209\, United States
ATTACH;FMTTYPE=image/png:https://sapgh.org/wp-content/uploads/2022/11/2022-12.01-Charlie-Chaplin-Event.png
END:VEVENT
BEGIN:VEVENT
DTSTART;TZID=America/New_York:20221120T100000
DTEND;TZID=America/New_York:20221120T113000
DTSTAMP:20260424T070556
CREATED:20220621T010146Z
LAST-MODIFIED:20220621T010146Z
UID:3422-1668938400-1668943800@sapgh.org
SUMMARY:Sunday Assembly!
DESCRIPTION:In this month of post-election / pre-holiday limbo\, we are mixing it up a bit and focusing on being COZY together! Wear your coziest PJs\, bring a chili or soup to share for our 2nd annual cook-off\, and get on the mic to read a poem or sing a song that brings you the mostContinue reading "Sunday Assembly PGH November (Remix): Cozy Open Mic & Chili/Soup Cook-Off!"
URL:https://sapgh.org/event/sunday-assembly-5/
LOCATION:Wilkins School Community Center\, 7604 Charleston Ave\, Pittsburgh\, PA\, 15218\, United States
ATTACH;FMTTYPE=image/png:https://sapgh.org/wp-content/uploads/2022/06/2022.11-Assembly-Whiteness.png
END:VEVENT
END:VCALENDAR