BEGIN:VCALENDAR
VERSION:2.0
PRODID:-//Sunday Assembly Pittsburgh - ECPv6.15.20//NONSGML v1.0//EN
CALSCALE:GREGORIAN
METHOD:PUBLISH
X-WR-CALNAME:Sunday Assembly Pittsburgh
X-ORIGINAL-URL:https://sapgh.org
X-WR-CALDESC:Events for Sunday Assembly Pittsburgh
REFRESH-INTERVAL;VALUE=DURATION:PT1H
X-Robots-Tag:noindex
X-PUBLISHED-TTL:PT1H
BEGIN:VTIMEZONE
TZID:America/New_York
BEGIN:DAYLIGHT
TZOFFSETFROM:-0500
TZOFFSETTO:-0400
TZNAME:EDT
DTSTART:20210314T070000
END:DAYLIGHT
BEGIN:STANDARD
TZOFFSETFROM:-0400
TZOFFSETTO:-0500
TZNAME:EST
DTSTART:20211107T060000
END:STANDARD
BEGIN:DAYLIGHT
TZOFFSETFROM:-0500
TZOFFSETTO:-0400
TZNAME:EDT
DTSTART:20220313T070000
END:DAYLIGHT
BEGIN:STANDARD
TZOFFSETFROM:-0400
TZOFFSETTO:-0500
TZNAME:EST
DTSTART:20221106T060000
END:STANDARD
BEGIN:DAYLIGHT
TZOFFSETFROM:-0500
TZOFFSETTO:-0400
TZNAME:EDT
DTSTART:20230312T070000
END:DAYLIGHT
BEGIN:STANDARD
TZOFFSETFROM:-0400
TZOFFSETTO:-0500
TZNAME:EST
DTSTART:20231105T060000
END:STANDARD
BEGIN:DAYLIGHT
TZOFFSETFROM:-0500
TZOFFSETTO:-0400
TZNAME:EDT
DTSTART:20240310T070000
END:DAYLIGHT
BEGIN:STANDARD
TZOFFSETFROM:-0400
TZOFFSETTO:-0500
TZNAME:EST
DTSTART:20241103T060000
END:STANDARD
END:VTIMEZONE
BEGIN:VEVENT
DTSTART;TZID=America/New_York:20230115T100000
DTEND;TZID=America/New_York:20230115T113000
DTSTAMP:20260424T120013
CREATED:20230102T040338Z
LAST-MODIFIED:20230102T040338Z
UID:3669-1673776800-1673782200@sapgh.org
SUMMARY:January Sunday Assembly
DESCRIPTION:June theme is Mutual Aid. To attend via zoom\, use this link:  https://us02web.zoom.us/meeting/register/tZwkcuCqqzIrGNSp7pASTeX1pofHdS_BkIBW
URL:https://sapgh.org/event/january-sunday-assembly/
LOCATION:Wilkins School Community Center\, 7604 Charleston Ave\, Pittsburgh\, PA\, 15218\, United States
ATTACH;FMTTYPE=image/png:https://sapgh.org/wp-content/uploads/2023/01/2023-01.png
END:VEVENT
BEGIN:VEVENT
DTSTART;TZID=America/New_York:20221221T190000
DTEND;TZID=America/New_York:20221221T210000
DTSTAMP:20260424T120013
CREATED:20221103T144800Z
LAST-MODIFIED:20221103T150201Z
UID:3597-1671649200-1671656400@sapgh.org
SUMMARY:Winter Solstice Celebration
DESCRIPTION:June theme is Mutual Aid. To attend via zoom\, use this link:  https://us02web.zoom.us/meeting/register/tZwkcuCqqzIrGNSp7pASTeX1pofHdS_BkIBW
URL:https://sapgh.org/event/winter-solstice-celebration/
LOCATION:PA
ATTACH;FMTTYPE=image/png:https://sapgh.org/wp-content/uploads/2022/11/2022-12-Winter-Solstice.png
END:VEVENT
BEGIN:VEVENT
DTSTART;TZID=America/New_York:20221218T190000
DTEND;TZID=America/New_York:20221218T203000
DTSTAMP:20260424T120013
CREATED:20221206T022732Z
LAST-MODIFIED:20221206T031923Z
UID:3632-1671390000-1671395400@sapgh.org
SUMMARY:Yule Rock!
DESCRIPTION:June theme is Mutual Aid. To attend via zoom\, use this link:  https://us02web.zoom.us/meeting/register/tZwkcuCqqzIrGNSp7pASTeX1pofHdS_BkIBW
URL:https://sapgh.org/event/yule-rock/
LOCATION:Wilkins School Community Center\, 7604 Charleston Ave\, Pittsburgh\, PA\, 15218\, United States
ATTACH;FMTTYPE=image/png:https://sapgh.org/wp-content/uploads/2022/12/2022-Yule-Rock-1.png
END:VEVENT
BEGIN:VEVENT
DTSTART;TZID=America/New_York:20221211T140000
DTEND;TZID=America/New_York:20221211T160000
DTSTAMP:20260424T120013
CREATED:20221120T164114Z
LAST-MODIFIED:20221120T164114Z
UID:3621-1670767200-1670774400@sapgh.org
SUMMARY:After Hours Event!
DESCRIPTION:June theme is Mutual Aid. To attend via zoom\, use this link:  https://us02web.zoom.us/meeting/register/tZwkcuCqqzIrGNSp7pASTeX1pofHdS_BkIBW
URL:https://sapgh.org/event/after-hours-event/
LOCATION:Steel City Improv\, 5950 Ellsworth Avenue\, Pittsburgh\, PA\, 15232\, United States
ATTACH;FMTTYPE=image/png:https://sapgh.org/wp-content/uploads/2022/11/2022-12-Jimmy-at-Improv.png
END:VEVENT
BEGIN:VEVENT
DTSTART;TZID=America/New_York:20221201T190000
DTEND;TZID=America/New_York:20221201T210000
DTSTAMP:20260424T120013
CREATED:20221120T161031Z
LAST-MODIFIED:20221120T161031Z
UID:3616-1669921200-1669928400@sapgh.org
SUMMARY:After Hours Event!  Presenting...Tom Roberts & his Charlie Chaplin Silent Picture Show
DESCRIPTION:June theme is Mutual Aid. To attend via zoom\, use this link:  https://us02web.zoom.us/meeting/register/tZwkcuCqqzIrGNSp7pASTeX1pofHdS_BkIBW
URL:https://sapgh.org/event/after-hours-event-presenting-tom-roberts-his-charlie-chaplin-silent-picture-show/
LOCATION:115 Sedgwick Street\, Pittsburgh\, PA 15209\, 115 Sedgwick Street\, Millvale\, PA\, 15209\, United States
ATTACH;FMTTYPE=image/png:https://sapgh.org/wp-content/uploads/2022/11/2022-12.01-Charlie-Chaplin-Event.png
END:VEVENT
BEGIN:VEVENT
DTSTART;TZID=America/New_York:20221120T100000
DTEND;TZID=America/New_York:20221120T113000
DTSTAMP:20260424T120013
CREATED:20220621T010146Z
LAST-MODIFIED:20220621T010146Z
UID:3422-1668938400-1668943800@sapgh.org
SUMMARY:Sunday Assembly!
DESCRIPTION:June theme is Mutual Aid. To attend via zoom\, use this link:  https://us02web.zoom.us/meeting/register/tZwkcuCqqzIrGNSp7pASTeX1pofHdS_BkIBW
URL:https://sapgh.org/event/sunday-assembly-5/
LOCATION:Wilkins School Community Center\, 7604 Charleston Ave\, Pittsburgh\, PA\, 15218\, United States
ATTACH;FMTTYPE=image/png:https://sapgh.org/wp-content/uploads/2022/06/2022.11-Assembly-Whiteness.png
END:VEVENT
BEGIN:VEVENT
DTSTART;TZID=America/New_York:20221106T140000
DTEND;TZID=America/New_York:20221106T160000
DTSTAMP:20260424T120013
CREATED:20220216T032648Z
LAST-MODIFIED:20220216T034430Z
UID:3039-1667743200-1667750400@sapgh.org
SUMMARY:"My Grandmother's Hands" Reading Group
DESCRIPTION:June theme is Mutual Aid. To attend via zoom\, use this link:  https://us02web.zoom.us/meeting/register/tZwkcuCqqzIrGNSp7pASTeX1pofHdS_BkIBW
URL:https://sapgh.org/event/my-grandmothers-hands-reading-group-9/
LOCATION:Register to receive Zoom link!
ATTACH;FMTTYPE=image/jpeg:https://sapgh.org/wp-content/uploads/2022/02/My-Grandmothers-Hands.jpg
END:VEVENT
BEGIN:VEVENT
DTSTART;TZID=America/New_York:20221030T160000
DTEND;TZID=America/New_York:20221030T170000
DTSTAMP:20260424T120013
CREATED:20221008T021959Z
LAST-MODIFIED:20221008T021959Z
UID:3567-1667145600-1667149200@sapgh.org
SUMMARY:Wondershop: How We Honor Our Ancestors
DESCRIPTION:June theme is Mutual Aid. To attend via zoom\, use this link:  https://us02web.zoom.us/meeting/register/tZwkcuCqqzIrGNSp7pASTeX1pofHdS_BkIBW
URL:https://sapgh.org/event/wondershop-how-we-honor-our-ancestors/
LOCATION:PA
ATTACH;FMTTYPE=image/png:https://sapgh.org/wp-content/uploads/2022/10/2022-10-Wondershops.png
END:VEVENT
BEGIN:VEVENT
DTSTART;TZID=America/New_York:20221016T100000
DTEND;TZID=America/New_York:20221016T233000
DTSTAMP:20260424T120013
CREATED:20221008T014419Z
LAST-MODIFIED:20221008T015711Z
UID:3563-1665914400-1665963000@sapgh.org
SUMMARY:Thanksgiving Food Drive
DESCRIPTION:June theme is Mutual Aid. To attend via zoom\, use this link:  https://us02web.zoom.us/meeting/register/tZwkcuCqqzIrGNSp7pASTeX1pofHdS_BkIBW
URL:https://sapgh.org/event/thanksgiving-food-drive/
LOCATION:Wilkins School Community Center\, 7604 Charleston Ave\, Pittsburgh\, PA\, 15218\, United States
ATTACH;FMTTYPE=image/png:https://sapgh.org/wp-content/uploads/2022/10/2022-10-Volunteer-Opportunities.png
END:VEVENT
BEGIN:VEVENT
DTSTART;TZID=America/New_York:20221016T100000
DTEND;TZID=America/New_York:20221016T113000
DTSTAMP:20260424T120013
CREATED:20220621T005843Z
LAST-MODIFIED:20220621T005843Z
UID:3416-1665914400-1665919800@sapgh.org
SUMMARY:Sunday Assembly!
DESCRIPTION:June theme is Mutual Aid. To attend via zoom\, use this link:  https://us02web.zoom.us/meeting/register/tZwkcuCqqzIrGNSp7pASTeX1pofHdS_BkIBW
URL:https://sapgh.org/event/sunday-assembly-4/
LOCATION:Wilkins School Community Center\, 7604 Charleston Ave\, Pittsburgh\, PA\, 15218\, United States
ATTACH;FMTTYPE=image/png:https://sapgh.org/wp-content/uploads/2022/06/2022.10-Assembly-Ancestors.png
END:VEVENT
BEGIN:VEVENT
DTSTART;TZID=America/New_York:20221009T140000
DTEND;TZID=America/New_York:20221009T150000
DTSTAMP:20260424T120013
CREATED:20221008T005805Z
LAST-MODIFIED:20221008T005854Z
UID:3558-1665324000-1665327600@sapgh.org
SUMMARY:Multimedia Meetup
DESCRIPTION:June theme is Mutual Aid. To attend via zoom\, use this link:  https://us02web.zoom.us/meeting/register/tZwkcuCqqzIrGNSp7pASTeX1pofHdS_BkIBW
URL:https://sapgh.org/event/multimedia-meetup-6/
LOCATION:Commonplace Coffee\, 7514 Thomas Blvd\, Suite 100\, Pittsburgh\, PA\, 15208\, United States
ATTACH;FMTTYPE=image/png:https://sapgh.org/wp-content/uploads/2022/10/2022-10-MMM.png
END:VEVENT
BEGIN:VEVENT
DTSTART;TZID=America/New_York:20220918T100000
DTEND;TZID=America/New_York:20220918T113000
DTSTAMP:20260424T120013
CREATED:20220621T002107Z
LAST-MODIFIED:20220621T002230Z
UID:3410-1663495200-1663500600@sapgh.org
SUMMARY:Sunday Assembly!
DESCRIPTION:June theme is Mutual Aid. To attend via zoom\, use this link:  https://us02web.zoom.us/meeting/register/tZwkcuCqqzIrGNSp7pASTeX1pofHdS_BkIBW
URL:https://sapgh.org/event/sunday-assembly-3/
LOCATION:Wilkins School Community Center\, 7604 Charleston Ave\, Pittsburgh\, PA\, 15218\, United States
ATTACH;FMTTYPE=image/png:https://sapgh.org/wp-content/uploads/2022/06/2022.09-Assembly-Space.png
END:VEVENT
BEGIN:VEVENT
DTSTART;TZID=America/New_York:20220911T113000
DTEND;TZID=America/New_York:20220911T143000
DTSTAMP:20260424T120013
CREATED:20220912T144241Z
LAST-MODIFIED:20220912T145610Z
UID:3260-1662895800-1662906600@sapgh.org
SUMMARY:Multimedia Meetup!
DESCRIPTION:June theme is Mutual Aid. To attend via zoom\, use this link:  https://us02web.zoom.us/meeting/register/tZwkcuCqqzIrGNSp7pASTeX1pofHdS_BkIBW
URL:https://sapgh.org/event/multimedia-meetup-5/
LOCATION:PA
END:VEVENT
BEGIN:VEVENT
DTSTART;TZID=America/New_York:20220910T100000
DTEND;TZID=America/New_York:20220910T140000
DTSTAMP:20260424T120013
CREATED:20220819T015148Z
LAST-MODIFIED:20220819T020113Z
UID:3496-1662804000-1662818400@sapgh.org
SUMMARY:Field Trip: SAPgh After Hours heads to Meadowcroft!
DESCRIPTION:June theme is Mutual Aid. To attend via zoom\, use this link:  https://us02web.zoom.us/meeting/register/tZwkcuCqqzIrGNSp7pASTeX1pofHdS_BkIBW
URL:https://sapgh.org/event/field-trip-sapgh-after-hours-heads-to-meadowcroft/
LOCATION:Meadowcroft Rockshelter & Historic Village\, 401 Meadowcroft Road\, Avella\, PA\, 15312\, United States
ATTACH;FMTTYPE=image/png:https://sapgh.org/wp-content/uploads/2022/08/2022-08.10-After-Hours.png
END:VEVENT
BEGIN:VEVENT
DTSTART;TZID=America/New_York:20220828T110000
DTEND;TZID=America/New_York:20220828T120000
DTSTAMP:20260424T120013
CREATED:20220719T010326Z
LAST-MODIFIED:20220719T010749Z
UID:3463-1661684400-1661688000@sapgh.org
SUMMARY:Multimedia Meetup!
DESCRIPTION:June theme is Mutual Aid. To attend via zoom\, use this link:  https://us02web.zoom.us/meeting/register/tZwkcuCqqzIrGNSp7pASTeX1pofHdS_BkIBW
URL:https://sapgh.org/event/multimedia-meetup-4/
LOCATION:Commonplace Coffee\, 7514 Thomas Blvd\, Suite 100\, Pittsburgh\, PA\, 15208\, United States
ATTACH;FMTTYPE=image/png:https://sapgh.org/wp-content/uploads/2022/07/2022.08-MMM.png
END:VEVENT
BEGIN:VEVENT
DTSTART;TZID=America/New_York:20220821T100000
DTEND;TZID=America/New_York:20220821T113000
DTSTAMP:20260424T120013
CREATED:20220621T001801Z
LAST-MODIFIED:20220621T002533Z
UID:3407-1661076000-1661081400@sapgh.org
SUMMARY:Sunday Assembly!
DESCRIPTION:June theme is Mutual Aid. To attend via zoom\, use this link:  https://us02web.zoom.us/meeting/register/tZwkcuCqqzIrGNSp7pASTeX1pofHdS_BkIBW
URL:https://sapgh.org/event/sunday-assembly-2/
LOCATION:Wilkins School Community Center\, 7604 Charleston Ave\, Pittsburgh\, PA\, 15218\, United States
ATTACH;FMTTYPE=image/png:https://sapgh.org/wp-content/uploads/2022/06/2022.08-Assembly.png
END:VEVENT
BEGIN:VEVENT
DTSTART;TZID=America/New_York:20220814T140000
DTEND;TZID=America/New_York:20220814T170000
DTSTAMP:20260424T120013
CREATED:20220730T212752Z
LAST-MODIFIED:20220730T212842Z
UID:3479-1660485600-1660496400@sapgh.org
SUMMARY:Wondershop! August Edition: Making Bobbin Lace
DESCRIPTION:June theme is Mutual Aid. To attend via zoom\, use this link:  https://us02web.zoom.us/meeting/register/tZwkcuCqqzIrGNSp7pASTeX1pofHdS_BkIBW
URL:https://sapgh.org/event/wondershop-august-edition-making-bobbin-lace/
LOCATION:RSVP Required to reveal location
ATTACH;FMTTYPE=image/png:https://sapgh.org/wp-content/uploads/2022/07/2022.08-Wondershops.png
END:VEVENT
BEGIN:VEVENT
DTSTART;TZID=America/New_York:20220813T190000
DTEND;TZID=America/New_York:20220813T203000
DTSTAMP:20260424T120013
CREATED:20220716T182458Z
LAST-MODIFIED:20220716T182458Z
UID:3458-1660417200-1660422600@sapgh.org
SUMMARY:SAPgh After Hours:  August Edition
DESCRIPTION:June theme is Mutual Aid. To attend via zoom\, use this link:  https://us02web.zoom.us/meeting/register/tZwkcuCqqzIrGNSp7pASTeX1pofHdS_BkIBW
URL:https://sapgh.org/event/sapgh-after-hours-august-edition/
LOCATION:Riverview/Observatory Park\, 159 Riverview Avenue\, Pittsburgh\, PA\, 15214\, United States
ATTACH;FMTTYPE=image/png:https://sapgh.org/wp-content/uploads/2022/07/2022.08-After-Hours.png
END:VEVENT
BEGIN:VEVENT
DTSTART;TZID=America/New_York:20220723T110000
DTEND;TZID=America/New_York:20220723T130000
DTSTAMP:20260424T120013
CREATED:20220702T143935Z
LAST-MODIFIED:20220702T144108Z
UID:3441-1658574000-1658581200@sapgh.org
SUMMARY:Wondershop!! July Theme: Community:  Our Community's Data at Your Fingertips
DESCRIPTION:June theme is Mutual Aid. To attend via zoom\, use this link:  https://us02web.zoom.us/meeting/register/tZwkcuCqqzIrGNSp7pASTeX1pofHdS_BkIBW
URL:https://sapgh.org/event/wondershop-july-theme-community-our-communitys-data-at-your-fingertips/
LOCATION:Register to receive Zoom link!
ATTACH;FMTTYPE=image/jpeg:https://sapgh.org/wp-content/uploads/2022/07/2022-07-WS.jpg
END:VEVENT
BEGIN:VEVENT
DTSTART;TZID=America/New_York:20220717T100000
DTEND;TZID=America/New_York:20220717T233000
DTSTAMP:20260424T120013
CREATED:20220621T001459Z
LAST-MODIFIED:20220621T001459Z
UID:3399-1658052000-1658100600@sapgh.org
SUMMARY:Sunday Assembly!
DESCRIPTION:June theme is Mutual Aid. To attend via zoom\, use this link:  https://us02web.zoom.us/meeting/register/tZwkcuCqqzIrGNSp7pASTeX1pofHdS_BkIBW
URL:https://sapgh.org/event/sunday-assembly/
LOCATION:Wilkins School Community Center\, 7604 Charleston Ave\, Pittsburgh\, PA\, 15218\, United States
ATTACH;FMTTYPE=image/png:https://sapgh.org/wp-content/uploads/2022/06/2022.07-Assembly.png
END:VEVENT
BEGIN:VEVENT
DTSTART;TZID=America/New_York:20220706T203000
DTEND;TZID=America/New_York:20220706T230000
DTSTAMP:20260424T120013
CREATED:20220630T020209Z
LAST-MODIFIED:20220630T021338Z
UID:3434-1657139400-1657148400@sapgh.org
SUMMARY:SAPgh After Hours:  Cinema in the Park
DESCRIPTION:June theme is Mutual Aid. To attend via zoom\, use this link:  https://us02web.zoom.us/meeting/register/tZwkcuCqqzIrGNSp7pASTeX1pofHdS_BkIBW
URL:https://sapgh.org/event/sapgh-after-hours-cinema-in-the-park/
LOCATION:Flagstaff Hill in Schenley Park\, Schenley Drive\, Pittsburgh\, PA\, 15213\, United States
ATTACH;FMTTYPE=image/png:https://sapgh.org/wp-content/uploads/2022/06/2022.07-After-Hours.png
END:VEVENT
BEGIN:VEVENT
DTSTART;TZID=America/New_York:20220703T140000
DTEND;TZID=America/New_York:20220703T160000
DTSTAMP:20260424T120013
CREATED:20220216T031253Z
LAST-MODIFIED:20220216T034946Z
UID:3029-1656856800-1656864000@sapgh.org
SUMMARY:"My Grandmother's Hands" Reading Group
DESCRIPTION:June theme is Mutual Aid. To attend via zoom\, use this link:  https://us02web.zoom.us/meeting/register/tZwkcuCqqzIrGNSp7pASTeX1pofHdS_BkIBW
URL:https://sapgh.org/event/my-grandmothers-hands-reading-group-5/
LOCATION:Register to receive Zoom link!
ATTACH;FMTTYPE=image/jpeg:https://sapgh.org/wp-content/uploads/2022/02/My-Grandmothers-Hands.jpg
END:VEVENT
BEGIN:VEVENT
DTSTART;TZID=America/New_York:20220619T100000
DTEND;TZID=America/New_York:20220619T113000
DTSTAMP:20260424T120014
CREATED:20220215T022908Z
LAST-MODIFIED:20220215T022908Z
UID:2981-1655632800-1655638200@sapgh.org
SUMMARY:Sunday Assembly!  A Secular Community Celebration
DESCRIPTION:June theme is Mutual Aid. To attend via zoom\, use this link:  https://us02web.zoom.us/meeting/register/tZwkcuCqqzIrGNSp7pASTeX1pofHdS_BkIBW
URL:https://sapgh.org/event/sunday-assembly-a-secular-community-celebration-6/
LOCATION:Register to receive Zoom link!
ATTACH;FMTTYPE=image/png:https://sapgh.org/wp-content/uploads/2022/02/June-Humor.png
END:VEVENT
BEGIN:VEVENT
DTSTART;TZID=America/New_York:20220618T140000
DTEND;TZID=America/New_York:20220618T190000
DTSTAMP:20260424T120014
CREATED:20220404T235628Z
LAST-MODIFIED:20220524T010707Z
UID:3192-1655560800-1655578800@sapgh.org
SUMMARY:2nd Annual SAPgh Summer Sol Social
DESCRIPTION:June theme is Mutual Aid. To attend via zoom\, use this link:  https://us02web.zoom.us/meeting/register/tZwkcuCqqzIrGNSp7pASTeX1pofHdS_BkIBW
URL:https://sapgh.org/event/2nd-annual-sapgh-summer-sol-social/
LOCATION:Fall Run Park\, 187 Fall Run Rd\, Glenshaw\, PA\, 15116\, United States
ATTACH;FMTTYPE=image/png:https://sapgh.org/wp-content/uploads/2022/04/2022-Summer-Sol-Social.png
END:VEVENT
BEGIN:VEVENT
DTSTART;TZID=America/New_York:20220612T134500
DTEND;TZID=America/New_York:20220612T160000
DTSTAMP:20260424T120014
CREATED:20220524T000439Z
LAST-MODIFIED:20220524T000439Z
UID:3361-1655041500-1655049600@sapgh.org
SUMMARY:Multimedia Meetup:  “Sam Jay: 3 In the Morning” (Watch Party)
DESCRIPTION:June theme is Mutual Aid. To attend via zoom\, use this link:  https://us02web.zoom.us/meeting/register/tZwkcuCqqzIrGNSp7pASTeX1pofHdS_BkIBW
URL:https://sapgh.org/event/multimedia-meetup-sam-jay-3-in-the-morning-watch-party/
LOCATION:RSVP Required to reveal location
ATTACH;FMTTYPE=image/png:https://sapgh.org/wp-content/uploads/2022/05/2022-06-MMM.png
END:VEVENT
BEGIN:VEVENT
DTSTART;TZID=America/New_York:20220611T140000
DTEND;TZID=America/New_York:20220611T160000
DTSTAMP:20260424T120014
CREATED:20220216T031112Z
LAST-MODIFIED:20220530T154954Z
UID:3027-1654956000-1654963200@sapgh.org
SUMMARY:"My Grandmother's Hands" Reading Group *DATE CHANGE*
DESCRIPTION:June theme is Mutual Aid. To attend via zoom\, use this link:  https://us02web.zoom.us/meeting/register/tZwkcuCqqzIrGNSp7pASTeX1pofHdS_BkIBW
URL:https://sapgh.org/event/my-grandmothers-hands-reading-group-4/
LOCATION:Register to receive Zoom link!
ATTACH;FMTTYPE=image/jpeg:https://sapgh.org/wp-content/uploads/2022/02/My-Grandmothers-Hands.jpg
END:VEVENT
BEGIN:VEVENT
DTSTART;TZID=America/New_York:20220605T100000
DTEND;TZID=America/New_York:20220605T170000
DTSTAMP:20260424T120014
CREATED:20220530T155828Z
LAST-MODIFIED:20220530T155828Z
UID:3372-1654423200-1654448400@sapgh.org
SUMMARY:Marching at People's Pride!
DESCRIPTION:June theme is Mutual Aid. To attend via zoom\, use this link:  https://us02web.zoom.us/meeting/register/tZwkcuCqqzIrGNSp7pASTeX1pofHdS_BkIBW
URL:https://sapgh.org/event/marching-at-peoples-pride/
LOCATION:7301 Schoyer Ave\, Pittsburgh\, PA 15218\, 7301 Schoyer Ave\, Pittsburgh\, PA\, 15218\, United States
ATTACH;FMTTYPE=image/png:https://sapgh.org/wp-content/uploads/2022/05/Peoples-Pride-March.png
END:VEVENT
BEGIN:VEVENT
DTSTART;TZID=America/New_York:20220529T100000
DTEND;TZID=America/New_York:20220529T120000
DTSTAMP:20260424T120014
CREATED:20220503T032246Z
LAST-MODIFIED:20220503T032246Z
UID:3290-1653818400-1653825600@sapgh.org
SUMMARY:Peace and Friendship Farm Volunteer Day
DESCRIPTION:June theme is Mutual Aid. To attend via zoom\, use this link:  https://us02web.zoom.us/meeting/register/tZwkcuCqqzIrGNSp7pASTeX1pofHdS_BkIBW
URL:https://sapgh.org/event/peace-and-friendship-farm-volunteer-day/
LOCATION:Peace and Friendship Farm\, 678 Somers Street\, Pittsburgh\, 15219
ATTACH;FMTTYPE=image/png:https://sapgh.org/wp-content/uploads/2022/05/Peace-Friendship-Farm-Volunteer-Op.png
END:VEVENT
BEGIN:VEVENT
DTSTART;TZID=America/New_York:20220515T120000
DTEND;TZID=America/New_York:20220515T140000
DTSTAMP:20260424T120014
CREATED:20220503T025641Z
LAST-MODIFIED:20220503T025641Z
UID:3278-1652616000-1652623200@sapgh.org
SUMMARY:Sign-Making for People's Pride!
DESCRIPTION:June theme is Mutual Aid. To attend via zoom\, use this link:  https://us02web.zoom.us/meeting/register/tZwkcuCqqzIrGNSp7pASTeX1pofHdS_BkIBW
URL:https://sapgh.org/event/sign-making-for-peoples-pride/
LOCATION:RSVP Required to reveal location
ATTACH;FMTTYPE=image/png:https://sapgh.org/wp-content/uploads/2022/05/Sign-making-for-Peoples-Pride.png
END:VEVENT
BEGIN:VEVENT
DTSTART;TZID=America/New_York:20220515T100000
DTEND;TZID=America/New_York:20220515T120000
DTSTAMP:20260424T120014
CREATED:20220503T031653Z
LAST-MODIFIED:20220503T050356Z
UID:3284-1652608800-1652616000@sapgh.org
SUMMARY:Ukraine Crisis Food & Supply Drive
DESCRIPTION:June theme is Mutual Aid. To attend via zoom\, use this link:  https://us02web.zoom.us/meeting/register/tZwkcuCqqzIrGNSp7pASTeX1pofHdS_BkIBW
URL:https://sapgh.org/event/ukraine-crisis-food-supply-drive/
LOCATION:Wilkins School Community Center\, 7604 Charleston Ave\, Pittsburgh\, PA\, 15218\, United States
ATTACH;FMTTYPE=image/png:https://sapgh.org/wp-content/uploads/2022/05/Ukraine-Crisis-Food-Supply-Drive.png
END:VEVENT
END:VCALENDAR